BEGIN:VCALENDAR
VERSION:2.0
PRODID:-//WEAll California - ECPv6.15.20//NONSGML v1.0//EN
CALSCALE:GREGORIAN
METHOD:PUBLISH
X-WR-CALNAME:WEAll California
X-ORIGINAL-URL:https://weallcalifornia.org
X-WR-CALDESC:Events for WEAll California
REFRESH-INTERVAL;VALUE=DURATION:PT1H
X-Robots-Tag:noindex
X-PUBLISHED-TTL:PT1H
BEGIN:VTIMEZONE
TZID:America/Los_Angeles
BEGIN:DAYLIGHT
TZOFFSETFROM:-0800
TZOFFSETTO:-0700
TZNAME:PDT
DTSTART:20230312T100000
END:DAYLIGHT
BEGIN:STANDARD
TZOFFSETFROM:-0700
TZOFFSETTO:-0800
TZNAME:PST
DTSTART:20231105T090000
END:STANDARD
BEGIN:DAYLIGHT
TZOFFSETFROM:-0800
TZOFFSETTO:-0700
TZNAME:PDT
DTSTART:20240310T100000
END:DAYLIGHT
BEGIN:STANDARD
TZOFFSETFROM:-0700
TZOFFSETTO:-0800
TZNAME:PST
DTSTART:20241103T090000
END:STANDARD
BEGIN:DAYLIGHT
TZOFFSETFROM:-0800
TZOFFSETTO:-0700
TZNAME:PDT
DTSTART:20250309T100000
END:DAYLIGHT
BEGIN:STANDARD
TZOFFSETFROM:-0700
TZOFFSETTO:-0800
TZNAME:PST
DTSTART:20251102T090000
END:STANDARD
END:VTIMEZONE
BEGIN:VEVENT
DTSTART;TZID=America/Los_Angeles:20240130T170000
DTEND;TZID=America/Los_Angeles:20240130T180000
DTSTAMP:20260421T160555
CREATED:20240106T031414Z
LAST-MODIFIED:20240106T031414Z
UID:2590-1706634000-1706637600@weallcalifornia.org
SUMMARY:Learn about the Democracy Reform Underway in Los Angeles
DESCRIPTION:A Democracy reform movement is under way in Los Angeles.  A coalition of partners are coming together for Charter Reform\, Democracy Vouchers\, Citizen Assemblies and Districting Reform. \nMike Draskovic of Public Democracy LA will guide us through the work of the coalition and answer your questions on how you can do this in your community. \nMike will also share about the February 6th coalition event to mobilize the first Citizen Assembly in Los Angeles.   The event will be online and you can sign up below. \nMike is the co-founder of Public Democracy LA and Democracy Policy Network.  Mike spoke to us last year on the work of Democracy Policy Network.  He is an amazing speaker and creates graphics that help us understand complex issues. \n  \nSIGN UP HERE
URL:https://weallcalifornia.org/event/learn-about-the-democracy-reform-underway-in-los-angeles/
LOCATION:Zoom
END:VEVENT
END:VCALENDAR