BEGIN:VCALENDAR
VERSION:2.0
PRODID:-//WEAll California - ECPv6.15.20//NONSGML v1.0//EN
CALSCALE:GREGORIAN
METHOD:PUBLISH
X-WR-CALNAME:WEAll California
X-ORIGINAL-URL:https://weallcalifornia.org
X-WR-CALDESC:Events for WEAll California
REFRESH-INTERVAL;VALUE=DURATION:PT1H
X-Robots-Tag:noindex
X-PUBLISHED-TTL:PT1H
BEGIN:VTIMEZONE
TZID:America/Los_Angeles
BEGIN:DAYLIGHT
TZOFFSETFROM:-0800
TZOFFSETTO:-0700
TZNAME:PDT
DTSTART:20230312T100000
END:DAYLIGHT
BEGIN:STANDARD
TZOFFSETFROM:-0700
TZOFFSETTO:-0800
TZNAME:PST
DTSTART:20231105T090000
END:STANDARD
BEGIN:DAYLIGHT
TZOFFSETFROM:-0800
TZOFFSETTO:-0700
TZNAME:PDT
DTSTART:20240310T100000
END:DAYLIGHT
BEGIN:STANDARD
TZOFFSETFROM:-0700
TZOFFSETTO:-0800
TZNAME:PST
DTSTART:20241103T090000
END:STANDARD
BEGIN:DAYLIGHT
TZOFFSETFROM:-0800
TZOFFSETTO:-0700
TZNAME:PDT
DTSTART:20250309T100000
END:DAYLIGHT
BEGIN:STANDARD
TZOFFSETFROM:-0700
TZOFFSETTO:-0800
TZNAME:PST
DTSTART:20251102T090000
END:STANDARD
END:VTIMEZONE
BEGIN:VEVENT
DTSTART;VALUE=DATE:20240308
DTEND;VALUE=DATE:20240310
DTSTAMP:20260421T142116
CREATED:20240216T194117Z
LAST-MODIFIED:20240216T194545Z
UID:2615-1709856000-1710028799@weallcalifornia.org
SUMMARY:just economies summit
DESCRIPTION:On March 8th and 9th\, the California 2024 Just Economies Summit is taking place in Sacramento. \nIf you’re a nonprofit leader\, activist\, policymaker\, or individual who cares about and wants to work collaboratively toward economic wellbeing and justice in California\, this event is for you! This special event will bring together organizations\, activists and visionaries who are working to transform California’s economy so that it works in service of the wellbeing of both people and the planet. \nIn the face of increasing social\, political\, and environmental crises\, it’s becoming increasingly clear that we need to transform our economic systems so they are just and sustainable by design. \nThis event aims to lay the foundations for state-wide economic systems change movement by bringing together a wide range of actors and organizations from across California to connect\, learn from one another and identify potential avenues for radical collaboration moving forward. \nIf you’re passionate about the need for a regenerative\, democratic\, and just economy\, join us! Through facilitated group discussions\, community building opportunities\, and policy visioning exercises\, you’ll get a chance to connect with like-minded individuals and inspiring initiatives that are illustrating that a different economic system is not only possible\, but already underway. \nRegistration is free.
URL:https://weallcalifornia.org/event/2024-just-economies-summit/
END:VEVENT
END:VCALENDAR