BEGIN:VCALENDAR
VERSION:2.0
PRODID:-//WEAll California - ECPv6.15.20//NONSGML v1.0//EN
CALSCALE:GREGORIAN
METHOD:PUBLISH
X-ORIGINAL-URL:https://weallcalifornia.org
X-WR-CALDESC:Events for WEAll California
REFRESH-INTERVAL;VALUE=DURATION:PT1H
X-Robots-Tag:noindex
X-PUBLISHED-TTL:PT1H
BEGIN:VTIMEZONE
TZID:America/Los_Angeles
BEGIN:DAYLIGHT
TZOFFSETFROM:-0800
TZOFFSETTO:-0700
TZNAME:PDT
DTSTART:20230312T100000
END:DAYLIGHT
BEGIN:STANDARD
TZOFFSETFROM:-0700
TZOFFSETTO:-0800
TZNAME:PST
DTSTART:20231105T090000
END:STANDARD
BEGIN:DAYLIGHT
TZOFFSETFROM:-0800
TZOFFSETTO:-0700
TZNAME:PDT
DTSTART:20240310T100000
END:DAYLIGHT
BEGIN:STANDARD
TZOFFSETFROM:-0700
TZOFFSETTO:-0800
TZNAME:PST
DTSTART:20241103T090000
END:STANDARD
BEGIN:DAYLIGHT
TZOFFSETFROM:-0800
TZOFFSETTO:-0700
TZNAME:PDT
DTSTART:20250309T100000
END:DAYLIGHT
BEGIN:STANDARD
TZOFFSETFROM:-0700
TZOFFSETTO:-0800
TZNAME:PST
DTSTART:20251102T090000
END:STANDARD
END:VTIMEZONE
BEGIN:VEVENT
DTSTART;TZID=America/Los_Angeles:20240319T160000
DTEND;TZID=America/Los_Angeles:20240319T170000
DTSTAMP:20260421T142115
CREATED:20240116T194422Z
LAST-MODIFIED:20240116T200217Z
UID:2595-1710864000-1710867600@weallcalifornia.org
SUMMARY:Listening Tour to End Poverty in California
DESCRIPTION:4.7 million people live in poverty in California. \nDevon Gray is the President of End Poverty in California (EPIC).   Devon and his team conducted a 2 year listening tour around California to hear first hand from people experiencing poverty.  EPIC’s goals include getting a better understanding of the issues as well as helping to change the false narratives that prevent significant societal changes. \nDevon will share what he has learned on the tour\, what insights have emerged from this epic tour and possible solutions to address these systemic issues. \nJoin us on March 19th at 4pm Pacific – SIGN UP HERE \n 
URL:https://weallcalifornia.org/event/listening-tour-to-end-poverty-in-california/
LOCATION:Zoom
END:VEVENT
END:VCALENDAR