BEGIN:VCALENDAR
VERSION:2.0
PRODID:-//WEAll California - ECPv6.15.20//NONSGML v1.0//EN
CALSCALE:GREGORIAN
METHOD:PUBLISH
X-WR-CALNAME:WEAll California
X-ORIGINAL-URL:https://weallcalifornia.org
X-WR-CALDESC:Events for WEAll California
REFRESH-INTERVAL;VALUE=DURATION:PT1H
X-Robots-Tag:noindex
X-PUBLISHED-TTL:PT1H
BEGIN:VTIMEZONE
TZID:America/Los_Angeles
BEGIN:DAYLIGHT
TZOFFSETFROM:-0800
TZOFFSETTO:-0700
TZNAME:PDT
DTSTART:20230312T100000
END:DAYLIGHT
BEGIN:STANDARD
TZOFFSETFROM:-0700
TZOFFSETTO:-0800
TZNAME:PST
DTSTART:20231105T090000
END:STANDARD
BEGIN:DAYLIGHT
TZOFFSETFROM:-0800
TZOFFSETTO:-0700
TZNAME:PDT
DTSTART:20240310T100000
END:DAYLIGHT
BEGIN:STANDARD
TZOFFSETFROM:-0700
TZOFFSETTO:-0800
TZNAME:PST
DTSTART:20241103T090000
END:STANDARD
BEGIN:DAYLIGHT
TZOFFSETFROM:-0800
TZOFFSETTO:-0700
TZNAME:PDT
DTSTART:20250309T100000
END:DAYLIGHT
BEGIN:STANDARD
TZOFFSETFROM:-0700
TZOFFSETTO:-0800
TZNAME:PST
DTSTART:20251102T090000
END:STANDARD
END:VTIMEZONE
BEGIN:VEVENT
DTSTART;TZID=America/Los_Angeles:20240611T160000
DTEND;TZID=America/Los_Angeles:20240611T170000
DTSTAMP:20260421T052745
CREATED:20240517T161406Z
LAST-MODIFIED:20240517T161406Z
UID:2773-1718121600-1718125200@weallcalifornia.org
SUMMARY:Allies Support Group
DESCRIPTION:Fellow Wellbeing Economy Allies\, \nOften\, our events are aimed at learning from others\, educating new arrivals\, or organizing around an issue. But this work is really hard! \nPersonally\, I have recently been struggling to explain my priorities and choices to people conditioned to a different mindset. Especially as the election approaches in the fall\, we will be having more and more conversations with our families\, friends\, and communities about what we want our future to look like. \nSo\, this summer we are introducing a new type of event: Wellbeing Economy Alliance Support Groups! \nThe goal is to create a safe space for our community to support each other by offering words of encouragement\, giving advice for specific challenges\, or even just a little commiserating to remind each other that we are not alone. There will be no predetermined topic; please bring your own reflections to share. \nThe first session will be on Monday\, June 3rd at 4-5pm PST hosted by me (Jessie Green). \nThe second session will be on Tuesday\, June 11th at 4-5pm PST hosted by David Green. \nYou can register for one or both sessions on this link \nhttps://docs.google.com/forms/d/e/1FAIpQLSfg7Ss0bdfofAHt4qW5anPf2yOV7AFd9kVk70fuvx70bFnCrw/viewform \nIf neither of those dates work for you\, we plan to hold two sessions per month going forward\, so keep your eye out! \nThe Support Group is a SAFE SPACE. This means it is always… \n\nConfidential: Support Group sessions will never be recorded\nRespectful: welcoming and judgment-free with zero tolerance for discrimination of any kind\n\nI look forward to seeing some of you there! \nYours in wellbeing\, \nJessie \nWellbeing Economy Alliance California is a volunteer run group that produces free events to support\, connect and educate people working towards a society committed to wellbeing for all.
URL:https://weallcalifornia.org/event/allies-support-group-2/
LOCATION:Zoom
END:VEVENT
END:VCALENDAR