BEGIN:VCALENDAR
VERSION:2.0
PRODID:-//WEAll California - ECPv6.15.20//NONSGML v1.0//EN
CALSCALE:GREGORIAN
METHOD:PUBLISH
X-WR-CALNAME:WEAll California
X-ORIGINAL-URL:https://weallcalifornia.org
X-WR-CALDESC:Events for WEAll California
REFRESH-INTERVAL;VALUE=DURATION:PT1H
X-Robots-Tag:noindex
X-PUBLISHED-TTL:PT1H
BEGIN:VTIMEZONE
TZID:America/Los_Angeles
BEGIN:DAYLIGHT
TZOFFSETFROM:-0800
TZOFFSETTO:-0700
TZNAME:PDT
DTSTART:20230312T100000
END:DAYLIGHT
BEGIN:STANDARD
TZOFFSETFROM:-0700
TZOFFSETTO:-0800
TZNAME:PST
DTSTART:20231105T090000
END:STANDARD
BEGIN:DAYLIGHT
TZOFFSETFROM:-0800
TZOFFSETTO:-0700
TZNAME:PDT
DTSTART:20240310T100000
END:DAYLIGHT
BEGIN:STANDARD
TZOFFSETFROM:-0700
TZOFFSETTO:-0800
TZNAME:PST
DTSTART:20241103T090000
END:STANDARD
BEGIN:DAYLIGHT
TZOFFSETFROM:-0800
TZOFFSETTO:-0700
TZNAME:PDT
DTSTART:20250309T100000
END:DAYLIGHT
BEGIN:STANDARD
TZOFFSETFROM:-0700
TZOFFSETTO:-0800
TZNAME:PST
DTSTART:20251102T090000
END:STANDARD
END:VTIMEZONE
BEGIN:VEVENT
DTSTART;TZID=America/Los_Angeles:20240618T120000
DTEND;TZID=America/Los_Angeles:20240618T130000
DTSTAMP:20260421T052745
CREATED:20240417T224547Z
LAST-MODIFIED:20240501T180051Z
UID:2678-1718712000-1718715600@weallcalifornia.org
SUMMARY:Engaging Residents in Local Democracy with Richard Young
DESCRIPTION:Richard Young is the Founder of CivicLex\, a civic health organization that educates and engages Lexington\, Kentucky residents in local democracy.   CivicLex has evolved over time based on paying attention to what works.  Richard is also very active in efforts in other communities to learn from what has worked well in other cities. \nRichard will share CivicLex’s 5 Key Missions to engage residents and then we will move into Q&A.  If you are new to WEAll CA learning events\, you ask the questions.  We encourage you to turn on your cameras and engage with our community. \nWe first became aware of Richard through an article he wrote for  Next City.  We encourage you to check it out. \nSIGNUP HERE \n  \nNext City Article  https://nextcity.org/urbanist-news/american-democracy-is-at-a-low-point.-we-need-to-strengthen-it-at-the-local \n 
URL:https://weallcalifornia.org/event/engaging-residents-in-local-democracy-with-richard-young/
LOCATION:Zoom
END:VEVENT
END:VCALENDAR