BEGIN:VCALENDAR
VERSION:2.0
PRODID:-//WEAll California - ECPv6.15.20//NONSGML v1.0//EN
CALSCALE:GREGORIAN
METHOD:PUBLISH
X-WR-CALNAME:WEAll California
X-ORIGINAL-URL:https://weallcalifornia.org
X-WR-CALDESC:Events for WEAll California
REFRESH-INTERVAL;VALUE=DURATION:PT1H
X-Robots-Tag:noindex
X-PUBLISHED-TTL:PT1H
BEGIN:VTIMEZONE
TZID:America/Los_Angeles
BEGIN:DAYLIGHT
TZOFFSETFROM:-0800
TZOFFSETTO:-0700
TZNAME:PDT
DTSTART:20230312T100000
END:DAYLIGHT
BEGIN:STANDARD
TZOFFSETFROM:-0700
TZOFFSETTO:-0800
TZNAME:PST
DTSTART:20231105T090000
END:STANDARD
BEGIN:DAYLIGHT
TZOFFSETFROM:-0800
TZOFFSETTO:-0700
TZNAME:PDT
DTSTART:20240310T100000
END:DAYLIGHT
BEGIN:STANDARD
TZOFFSETFROM:-0700
TZOFFSETTO:-0800
TZNAME:PST
DTSTART:20241103T090000
END:STANDARD
BEGIN:DAYLIGHT
TZOFFSETFROM:-0800
TZOFFSETTO:-0700
TZNAME:PDT
DTSTART:20250309T100000
END:DAYLIGHT
BEGIN:STANDARD
TZOFFSETFROM:-0700
TZOFFSETTO:-0800
TZNAME:PST
DTSTART:20251102T090000
END:STANDARD
END:VTIMEZONE
BEGIN:VEVENT
DTSTART;TZID=America/Los_Angeles:20240917T110000
DTEND;TZID=America/Los_Angeles:20240917T120000
DTSTAMP:20260421T004144
CREATED:20240830T001155Z
LAST-MODIFIED:20240830T001155Z
UID:2814-1726570800-1726574400@weallcalifornia.org
SUMMARY:Academics for Wellbeing Economies
DESCRIPTION:Our kickoff meeting for Professors\, University Staff and Teachers for all ages.   We will be discussing how we can work across institutions and educational disciplines to create awareness of Wellbeing Economy whole system thinking.   The group will decide on where we focus from these topics: \n\nCurricula – Needs and Possibilities\nStudent Participation Opportunities\nCross Institution Collaborations\n\nTo join us or find out more information\, please send an email to connect@weallcalifornia.org \n 
URL:https://weallcalifornia.org/event/academics-for-wellbeing-economies/
LOCATION:Zoom
END:VEVENT
END:VCALENDAR