BEGIN:VCALENDAR
VERSION:2.0
PRODID:-//WEAll California - ECPv6.15.20//NONSGML v1.0//EN
CALSCALE:GREGORIAN
METHOD:PUBLISH
X-ORIGINAL-URL:https://weallcalifornia.org
X-WR-CALDESC:Events for WEAll California
REFRESH-INTERVAL;VALUE=DURATION:PT1H
X-Robots-Tag:noindex
X-PUBLISHED-TTL:PT1H
BEGIN:VTIMEZONE
TZID:America/Los_Angeles
BEGIN:DAYLIGHT
TZOFFSETFROM:-0800
TZOFFSETTO:-0700
TZNAME:PDT
DTSTART:20230312T100000
END:DAYLIGHT
BEGIN:STANDARD
TZOFFSETFROM:-0700
TZOFFSETTO:-0800
TZNAME:PST
DTSTART:20231105T090000
END:STANDARD
BEGIN:DAYLIGHT
TZOFFSETFROM:-0800
TZOFFSETTO:-0700
TZNAME:PDT
DTSTART:20240310T100000
END:DAYLIGHT
BEGIN:STANDARD
TZOFFSETFROM:-0700
TZOFFSETTO:-0800
TZNAME:PST
DTSTART:20241103T090000
END:STANDARD
BEGIN:DAYLIGHT
TZOFFSETFROM:-0800
TZOFFSETTO:-0700
TZNAME:PDT
DTSTART:20250309T100000
END:DAYLIGHT
BEGIN:STANDARD
TZOFFSETFROM:-0700
TZOFFSETTO:-0800
TZNAME:PST
DTSTART:20251102T090000
END:STANDARD
END:VTIMEZONE
BEGIN:VEVENT
DTSTART;TZID=America/Los_Angeles:20240926T090000
DTEND;TZID=America/Los_Angeles:20240926T100000
DTSTAMP:20260421T004406
CREATED:20240903T231713Z
LAST-MODIFIED:20240903T231713Z
UID:2816-1727341200-1727344800@weallcalifornia.org
SUMMARY:LA County’s Efforts to Produce a Wellbeing Economy
DESCRIPTION:It might surprise you to learn that Los Angeles County is conducting a variety of initiatives that lean into the Wellbeing Economy concept. Join us for this interactive session with Caroline Torosis\, the Senior Deputy for Economic and Workforce Development to LA County Supervisor Holly J. Mitchell. \nCaroline will share with us the wide variety of techniques they are using to: \n\nBoost local small businesses\nHelp create more Employee Owned Businesses\nExpand participation in Co-Governance\nLift people at the bottom end of the wealth gap\n\nCaroline Torosis is a government affairs attorney and workforce development expert for the County of Los Angeles\, Caroline has dedicated her career to passing policies that protect the rights of our workers\, consumers\, and tenants while allowing our small businesses to promote a fair and vibrant marketplace where everyone has the opportunity to thrive. \nSIGNUP HERE \n  \n 
URL:https://weallcalifornia.org/event/la-countys-efforts-to-produce-a-wellbeing-economy/
LOCATION:Zoom
END:VEVENT
END:VCALENDAR