BEGIN:VCALENDAR
VERSION:2.0
PRODID:-//WEAll California - ECPv6.15.20//NONSGML v1.0//EN
CALSCALE:GREGORIAN
METHOD:PUBLISH
X-ORIGINAL-URL:https://weallcalifornia.org
X-WR-CALDESC:Events for WEAll California
REFRESH-INTERVAL;VALUE=DURATION:PT1H
X-Robots-Tag:noindex
X-PUBLISHED-TTL:PT1H
BEGIN:VTIMEZONE
TZID:America/Los_Angeles
BEGIN:DAYLIGHT
TZOFFSETFROM:-0800
TZOFFSETTO:-0700
TZNAME:PDT
DTSTART:20230312T100000
END:DAYLIGHT
BEGIN:STANDARD
TZOFFSETFROM:-0700
TZOFFSETTO:-0800
TZNAME:PST
DTSTART:20231105T090000
END:STANDARD
BEGIN:DAYLIGHT
TZOFFSETFROM:-0800
TZOFFSETTO:-0700
TZNAME:PDT
DTSTART:20240310T100000
END:DAYLIGHT
BEGIN:STANDARD
TZOFFSETFROM:-0700
TZOFFSETTO:-0800
TZNAME:PST
DTSTART:20241103T090000
END:STANDARD
BEGIN:DAYLIGHT
TZOFFSETFROM:-0800
TZOFFSETTO:-0700
TZNAME:PDT
DTSTART:20250309T100000
END:DAYLIGHT
BEGIN:STANDARD
TZOFFSETFROM:-0700
TZOFFSETTO:-0800
TZNAME:PST
DTSTART:20251102T090000
END:STANDARD
END:VTIMEZONE
BEGIN:VEVENT
DTSTART;TZID=America/Los_Angeles:20241024T170000
DTEND;TZID=America/Los_Angeles:20241024T180000
DTSTAMP:20260420T225600
CREATED:20240910T020035Z
LAST-MODIFIED:20240925T203820Z
UID:2819-1729789200-1729792800@weallcalifornia.org
SUMMARY:California Ballot Measures Examined
DESCRIPTION:Confused by the competing ads for and against measures on the November 5 ballot? \nCome hear the League of Women Voters give an unbiased\, nonpartisan explanation of the pros and cons of each measure. Learn about the issues\, the context and the arguments for and against each proposition so you can make an informed decision \nWe will cover all the Propositions\, but we will start with the one voted “Most Curious About”.  Vote when you register at the link below. \n\n        Prop 2: School bond\n        Prop 3: Marriage Equality\n        Prop 4: Climate bond\n        Prop 5: Affordable housing\n        Prop 6: Slavery\n        Prop 32: Minimum wage\n        Prop 33: Rent Control\n        Prop 34: Healthcare\n        Prop 35: MediCal\n        Prop 36: Prop 47 recall\n\nThursday\, Oct 24 from 5pm to 6pm Pacific \nSIGN UP LINK BELOW \nhttps://docs.google.com/forms/d/e/1FAIpQLSeQ2cl3AqgCTM-23gQGdCPCxdGvXi83JZcXA0GP42vrHaa5EQ/viewform
URL:https://weallcalifornia.org/event/california-ballot-measures-examined/
LOCATION:Zoom
END:VEVENT
END:VCALENDAR