BEGIN:VCALENDAR
VERSION:2.0
PRODID:-//WEAll California - ECPv6.15.20//NONSGML v1.0//EN
CALSCALE:GREGORIAN
METHOD:PUBLISH
X-WR-CALNAME:WEAll California
X-ORIGINAL-URL:https://weallcalifornia.org
X-WR-CALDESC:Events for WEAll California
REFRESH-INTERVAL;VALUE=DURATION:PT1H
X-Robots-Tag:noindex
X-PUBLISHED-TTL:PT1H
BEGIN:VTIMEZONE
TZID:America/Los_Angeles
BEGIN:DAYLIGHT
TZOFFSETFROM:-0800
TZOFFSETTO:-0700
TZNAME:PDT
DTSTART:20240310T100000
END:DAYLIGHT
BEGIN:STANDARD
TZOFFSETFROM:-0700
TZOFFSETTO:-0800
TZNAME:PST
DTSTART:20241103T090000
END:STANDARD
BEGIN:DAYLIGHT
TZOFFSETFROM:-0800
TZOFFSETTO:-0700
TZNAME:PDT
DTSTART:20250309T100000
END:DAYLIGHT
BEGIN:STANDARD
TZOFFSETFROM:-0700
TZOFFSETTO:-0800
TZNAME:PST
DTSTART:20251102T090000
END:STANDARD
BEGIN:DAYLIGHT
TZOFFSETFROM:-0800
TZOFFSETTO:-0700
TZNAME:PDT
DTSTART:20260308T100000
END:DAYLIGHT
BEGIN:STANDARD
TZOFFSETFROM:-0700
TZOFFSETTO:-0800
TZNAME:PST
DTSTART:20261101T090000
END:STANDARD
END:VTIMEZONE
BEGIN:VEVENT
DTSTART;TZID=America/Los_Angeles:20250127T160000
DTEND;TZID=America/Los_Angeles:20250127T170000
DTSTAMP:20260420T155353
CREATED:20241225T201524Z
LAST-MODIFIED:20250108T201013Z
UID:2843-1737993600-1737997200@weallcalifornia.org
SUMMARY:Local Economy Success Story
DESCRIPTION:Just San Bernardino is creating a community-centered economy planned for the people and led by the people by uplifting community voices.  The project is four years old and has accomplished many impressive successes in community building\, incorporating arts into their economic plans and putting forward a series of economic mobility initiatives. \nCo-Directors Miriam Nieto and Carolina Sanchez will share details about their multi-prong approach to economic mobility and thriving community. \nIf you haven’t been to one of our learning sessions\, they are structured so that our attendees can ask questions.  This session is ideal for people leading local initiatives to see how other communities are achieving successful outcomes. \nIf you would like to learn more about Just SB in advance of our session\, you can look at their impressive People’s Plan report online. \nJoin us Monday\, Jan 27 at 4pm Pacific \nSignup FORM \n  \nIf you would like to receive the recording of this event\, please sign up.
URL:https://weallcalifornia.org/event/local-economy-success-story/
LOCATION:Zoom
END:VEVENT
END:VCALENDAR