BEGIN:VCALENDAR
VERSION:2.0
PRODID:-//WEAll California - ECPv6.15.20//NONSGML v1.0//EN
CALSCALE:GREGORIAN
METHOD:PUBLISH
X-WR-CALNAME:WEAll California
X-ORIGINAL-URL:https://weallcalifornia.org
X-WR-CALDESC:Events for WEAll California
REFRESH-INTERVAL;VALUE=DURATION:PT1H
X-Robots-Tag:noindex
X-PUBLISHED-TTL:PT1H
BEGIN:VTIMEZONE
TZID:America/Los_Angeles
BEGIN:DAYLIGHT
TZOFFSETFROM:-0800
TZOFFSETTO:-0700
TZNAME:PDT
DTSTART:20240310T100000
END:DAYLIGHT
BEGIN:STANDARD
TZOFFSETFROM:-0700
TZOFFSETTO:-0800
TZNAME:PST
DTSTART:20241103T090000
END:STANDARD
BEGIN:DAYLIGHT
TZOFFSETFROM:-0800
TZOFFSETTO:-0700
TZNAME:PDT
DTSTART:20250309T100000
END:DAYLIGHT
BEGIN:STANDARD
TZOFFSETFROM:-0700
TZOFFSETTO:-0800
TZNAME:PST
DTSTART:20251102T090000
END:STANDARD
BEGIN:DAYLIGHT
TZOFFSETFROM:-0800
TZOFFSETTO:-0700
TZNAME:PDT
DTSTART:20260308T100000
END:DAYLIGHT
BEGIN:STANDARD
TZOFFSETFROM:-0700
TZOFFSETTO:-0800
TZNAME:PST
DTSTART:20261101T090000
END:STANDARD
END:VTIMEZONE
BEGIN:VEVENT
DTSTART;TZID=America/Los_Angeles:20250206T183000
DTEND;TZID=America/Los_Angeles:20250206T193000
DTSTAMP:20260420T155251
CREATED:20250109T182240Z
LAST-MODIFIED:20250109T182240Z
UID:2855-1738866600-1738870200@weallcalifornia.org
SUMMARY:Book Club - The Serviceberry
DESCRIPTION:The first Thursday of each month\, we will read and discuss one chapter of Robin Wall Kimmerer’s excellent new book – The Serviceberry: Abundance and Reciprocity in the Natural World \nThe book is beautifully written and feels so important to the discussion of envisioning and co-creating a healthier world. One of our main themes for 2025 is how do we create the language and stories that help more people believe such a world is viable. \nThe chapters are relatively short\, so we hope you will read (or reread the chapter) so it is fresh in your mind. \nOn Thursday\, Feb 6 at 630pm\, we will discuss the first chapter. \nSign up HERE \n  \nPlease consider buying it from Abe Books or a local\, independent bookseller. \nhttps://www.abebooks.com/servlet/BookDetailsPL?bi=32072116536 \n 
URL:https://weallcalifornia.org/event/book-club-the-serviceberry/
LOCATION:Zoom
END:VEVENT
END:VCALENDAR