BEGIN:VCALENDAR
VERSION:2.0
PRODID:-//WEAll California - ECPv6.15.20//NONSGML v1.0//EN
CALSCALE:GREGORIAN
METHOD:PUBLISH
X-ORIGINAL-URL:https://weallcalifornia.org
X-WR-CALDESC:Events for WEAll California
REFRESH-INTERVAL;VALUE=DURATION:PT1H
X-Robots-Tag:noindex
X-PUBLISHED-TTL:PT1H
BEGIN:VTIMEZONE
TZID:America/Los_Angeles
BEGIN:DAYLIGHT
TZOFFSETFROM:-0800
TZOFFSETTO:-0700
TZNAME:PDT
DTSTART:20240310T100000
END:DAYLIGHT
BEGIN:STANDARD
TZOFFSETFROM:-0700
TZOFFSETTO:-0800
TZNAME:PST
DTSTART:20241103T090000
END:STANDARD
BEGIN:DAYLIGHT
TZOFFSETFROM:-0800
TZOFFSETTO:-0700
TZNAME:PDT
DTSTART:20250309T100000
END:DAYLIGHT
BEGIN:STANDARD
TZOFFSETFROM:-0700
TZOFFSETTO:-0800
TZNAME:PST
DTSTART:20251102T090000
END:STANDARD
BEGIN:DAYLIGHT
TZOFFSETFROM:-0800
TZOFFSETTO:-0700
TZNAME:PDT
DTSTART:20260308T100000
END:DAYLIGHT
BEGIN:STANDARD
TZOFFSETFROM:-0700
TZOFFSETTO:-0800
TZNAME:PST
DTSTART:20261101T090000
END:STANDARD
END:VTIMEZONE
BEGIN:VEVENT
DTSTART;TZID=America/Los_Angeles:20250218T160000
DTEND;TZID=America/Los_Angeles:20250218T170000
DTSTAMP:20260420T155600
CREATED:20250107T233316Z
LAST-MODIFIED:20250110T200330Z
UID:2846-1739894400-1739898000@weallcalifornia.org
SUMMARY:Create a Local Support System for Coops
DESCRIPTION:Cooperatives are essential for creating more equitable communities. They uplift workers\, create a fairer economy\, and build community wealth and power. For cooperatives to grow and thrive\, they need a supportive and connected ecosystem that includes established practitioners\, values-aligned technical assistance and financing providers\, and political\, philanthropic\, and institutional investment. \nAt this session\, we will look at the different ways that local leaders are creating robust cooperative ecosystems to meet critical community needs. \nWe are joined by Zen Trenholm\, Senior Director of Employee Ownership Cities and Policy from the Democracy at Work Institute (https://institute.coop/) to share their hands-on experience helping communities develop the language\, tools\, and infrastructure to build and scale worker ownership. \nSign up HERE
URL:https://weallcalifornia.org/event/how-to-create-a-local-support-system-for-coops/
LOCATION:Zoom
END:VEVENT
BEGIN:VEVENT
DTSTART;TZID=America/Los_Angeles:20250218T173000
DTEND;TZID=America/Los_Angeles:20250218T183000
DTSTAMP:20260420T155600
CREATED:20250131T003035Z
LAST-MODIFIED:20250204T183557Z
UID:2921-1739899800-1739903400@weallcalifornia.org
SUMMARY:Narrative Workshop #2
DESCRIPTION:Join us as we discuss and brainstorm Wellbeing Economy Strategies. \nOver the course of 2025\, we will host a series of discussions and learn from experts in the field of messaging and narrative. \nIn our January discussion\, we looked at the messages and tactics of competing narratives. \nFor our February meetings\, we will consider the following questions: \n\nWhat are the important elements of an effective strategy?\nWho are the primary and secondary audiences?\nWhat are the pros and cons of having a unified message?\nWhat are the top three messages we want to break through?\n\nWe welcome people who have not joined other sessions.  You will receive a summary of the January meeting when you register. \nJoin us on Tuesday\, February 18th at either 9am or 530pm Pacific \nSign up HERE \nOnce you have signed up\, you will receive a summary of our last session. \nYou can also watch the Learning session on Wellbeing Narratives from 2024 on our YouTube channel
URL:https://weallcalifornia.org/event/narrative-workshop-2/
LOCATION:Zoom
END:VEVENT
END:VCALENDAR