BEGIN:VCALENDAR
VERSION:2.0
PRODID:-//WEAll California - ECPv6.15.20//NONSGML v1.0//EN
CALSCALE:GREGORIAN
METHOD:PUBLISH
X-WR-CALNAME:WEAll California
X-ORIGINAL-URL:https://weallcalifornia.org
X-WR-CALDESC:Events for WEAll California
REFRESH-INTERVAL;VALUE=DURATION:PT1H
X-Robots-Tag:noindex
X-PUBLISHED-TTL:PT1H
BEGIN:VTIMEZONE
TZID:America/Los_Angeles
BEGIN:DAYLIGHT
TZOFFSETFROM:-0800
TZOFFSETTO:-0700
TZNAME:PDT
DTSTART:20240310T100000
END:DAYLIGHT
BEGIN:STANDARD
TZOFFSETFROM:-0700
TZOFFSETTO:-0800
TZNAME:PST
DTSTART:20241103T090000
END:STANDARD
BEGIN:DAYLIGHT
TZOFFSETFROM:-0800
TZOFFSETTO:-0700
TZNAME:PDT
DTSTART:20250309T100000
END:DAYLIGHT
BEGIN:STANDARD
TZOFFSETFROM:-0700
TZOFFSETTO:-0800
TZNAME:PST
DTSTART:20251102T090000
END:STANDARD
BEGIN:DAYLIGHT
TZOFFSETFROM:-0800
TZOFFSETTO:-0700
TZNAME:PDT
DTSTART:20260308T100000
END:DAYLIGHT
BEGIN:STANDARD
TZOFFSETFROM:-0700
TZOFFSETTO:-0800
TZNAME:PST
DTSTART:20261101T090000
END:STANDARD
END:VTIMEZONE
BEGIN:VEVENT
DTSTART;TZID=America/Los_Angeles:20250225T160000
DTEND;TZID=America/Los_Angeles:20250225T170000
DTSTAMP:20260420T140129
CREATED:20241216T173453Z
LAST-MODIFIED:20250128T184252Z
UID:2838-1740499200-1740502800@weallcalifornia.org
SUMMARY:Developing a Wellbeing Economy Platform
DESCRIPTION:One of our group projects for 2025\, is to create a Policy Platform. \nFrom a Process perspective\, we want to accomplish multiple goals: \n\nSpur dialogue across our community about what issues are most pressing\nDig into specific policy options and deepen collective knowledge\nHave discussion about where and how disagree with the hopes of finding common ground\n\nFrom an Outcomes perspective\, we hope a unifying platform will allow us to: \n\nGo to current local and state legislators with a series of requests\nMake proposals to Attorney Generals about how they can pursue equity\nUse joint actions to demonstrate how many people support these policies\n\nThis process began at a community session in 2024.  We took the notes from that session and turned it into a first draft for comment.  You can see the first draft here and the running feedback on that draft here    If you would like to submit comments in advance of this session\, please email them to connect@weallcalifornia.org \nWe will work on a revised draft and circulate that to people signed up for this community feedback session. \nIf policy is what lights you up\, we encourage you to join us. We welcome everyone\, especially those looking to learn more about specific policy strategies. \nOver the course of 2025\, we will host a series of deep dives into each of the Platform “planks” to create the detail.  This session will be focused on the Introduction\, tone and what “planks” to include. \nJoin us on Tue Feb 25 at either 10am or 4pm Pacific for our Platform discussions. \nSIGN UP HERE
URL:https://weallcalifornia.org/event/developing-a-wellbeing-economy-platform/
LOCATION:Zoom
END:VEVENT
END:VCALENDAR