BEGIN:VCALENDAR
VERSION:2.0
PRODID:-//WEAll California - ECPv6.15.20//NONSGML v1.0//EN
CALSCALE:GREGORIAN
METHOD:PUBLISH
X-WR-CALNAME:WEAll California
X-ORIGINAL-URL:https://weallcalifornia.org
X-WR-CALDESC:Events for WEAll California
REFRESH-INTERVAL;VALUE=DURATION:PT1H
X-Robots-Tag:noindex
X-PUBLISHED-TTL:PT1H
BEGIN:VTIMEZONE
TZID:America/Los_Angeles
BEGIN:DAYLIGHT
TZOFFSETFROM:-0800
TZOFFSETTO:-0700
TZNAME:PDT
DTSTART:20240310T100000
END:DAYLIGHT
BEGIN:STANDARD
TZOFFSETFROM:-0700
TZOFFSETTO:-0800
TZNAME:PST
DTSTART:20241103T090000
END:STANDARD
BEGIN:DAYLIGHT
TZOFFSETFROM:-0800
TZOFFSETTO:-0700
TZNAME:PDT
DTSTART:20250309T100000
END:DAYLIGHT
BEGIN:STANDARD
TZOFFSETFROM:-0700
TZOFFSETTO:-0800
TZNAME:PST
DTSTART:20251102T090000
END:STANDARD
BEGIN:DAYLIGHT
TZOFFSETFROM:-0800
TZOFFSETTO:-0700
TZNAME:PDT
DTSTART:20260308T100000
END:DAYLIGHT
BEGIN:STANDARD
TZOFFSETFROM:-0700
TZOFFSETTO:-0800
TZNAME:PST
DTSTART:20261101T090000
END:STANDARD
END:VTIMEZONE
BEGIN:VEVENT
DTSTART;TZID=America/Los_Angeles:20250226T110000
DTEND;TZID=America/Los_Angeles:20250226T120000
DTSTAMP:20260420T140129
CREATED:20250204T183306Z
LAST-MODIFIED:20250204T183306Z
UID:2932-1740567600-1740571200@weallcalifornia.org
SUMMARY:University Connection
DESCRIPTION:Purpose of this group \n\nBring together Academics\, Student Counselors and Student Leaders Activists\nSeed “Wellbeing Economy” systemic thinking and concepts into curriculum across disciplines\nTo create experiential learning opportunities for students to better understand these concepts and develop leadership skills\n\nTwo main topics for this meeting: \n\nOpportunities in the crises\nStudent Engagement\n\nTo join or for more information\, please email connect@weallcalifornia.org
URL:https://weallcalifornia.org/event/university-connection/
LOCATION:Zoom
END:VEVENT
END:VCALENDAR