BEGIN:VCALENDAR
VERSION:2.0
PRODID:-//WEAll California - ECPv6.15.20//NONSGML v1.0//EN
CALSCALE:GREGORIAN
METHOD:PUBLISH
X-WR-CALNAME:WEAll California
X-ORIGINAL-URL:https://weallcalifornia.org
X-WR-CALDESC:Events for WEAll California
REFRESH-INTERVAL;VALUE=DURATION:PT1H
X-Robots-Tag:noindex
X-PUBLISHED-TTL:PT1H
BEGIN:VTIMEZONE
TZID:America/Los_Angeles
BEGIN:DAYLIGHT
TZOFFSETFROM:-0800
TZOFFSETTO:-0700
TZNAME:PDT
DTSTART:20240310T100000
END:DAYLIGHT
BEGIN:STANDARD
TZOFFSETFROM:-0700
TZOFFSETTO:-0800
TZNAME:PST
DTSTART:20241103T090000
END:STANDARD
BEGIN:DAYLIGHT
TZOFFSETFROM:-0800
TZOFFSETTO:-0700
TZNAME:PDT
DTSTART:20250309T100000
END:DAYLIGHT
BEGIN:STANDARD
TZOFFSETFROM:-0700
TZOFFSETTO:-0800
TZNAME:PST
DTSTART:20251102T090000
END:STANDARD
BEGIN:DAYLIGHT
TZOFFSETFROM:-0800
TZOFFSETTO:-0700
TZNAME:PDT
DTSTART:20260308T100000
END:DAYLIGHT
BEGIN:STANDARD
TZOFFSETFROM:-0700
TZOFFSETTO:-0800
TZNAME:PST
DTSTART:20261101T090000
END:STANDARD
END:VTIMEZONE
BEGIN:VEVENT
DTSTART;TZID=America/Los_Angeles:20250318T100000
DTEND;TZID=America/Los_Angeles:20250318T110000
DTSTAMP:20260420T140127
CREATED:20250219T210026Z
LAST-MODIFIED:20250303T174422Z
UID:2940-1742292000-1742295600@weallcalifornia.org
SUMMARY:Setting a Vision for the Future - Narrative Workshop
DESCRIPTION:Our theme for 2025 is how to build winning Narrative Strategies. \nThis month we are focused on clarifying our Vision of the beautiful future we would like to create together. \nOur morning session (10am) will be led by Debilyn Molineaux of AmericanFuture.us. Debilyn has been a leader in the civic engagement field and her new project is aimed at helping people articulate the future they would like to live into. \nOur afternoon session (4pm) we will do a slightly different process with the same aim. Helping people give voice to their desired future. \nWe will produce a final “Vision Statement” from all of our collective voices. This will go into the narrative map we have been constructing. \nThe workshop is open to everyone even if you have not participated in prior sessions. The map and meeting summaries will be included when you RSVP. \nWe have also booked several Narrative experts as part of this series: \n\nMarch 20 – Akira Nakahara of Imperative 21\nApril 10 – Jasmine Banks of UnKoch My Campus\nJune 12 – David Ballard of Groundwork Collaborative\nJoin us Tuesday\, March 18 at 10 am or 4pm Pacific\n\nSign Up HERE
URL:https://weallcalifornia.org/event/narrative-workshop-3/
LOCATION:Zoom
END:VEVENT
END:VCALENDAR