BEGIN:VCALENDAR
VERSION:2.0
PRODID:-//WEAll California - ECPv6.15.20//NONSGML v1.0//EN
CALSCALE:GREGORIAN
METHOD:PUBLISH
X-ORIGINAL-URL:https://weallcalifornia.org
X-WR-CALDESC:Events for WEAll California
REFRESH-INTERVAL;VALUE=DURATION:PT1H
X-Robots-Tag:noindex
X-PUBLISHED-TTL:PT1H
BEGIN:VTIMEZONE
TZID:America/Los_Angeles
BEGIN:DAYLIGHT
TZOFFSETFROM:-0800
TZOFFSETTO:-0700
TZNAME:PDT
DTSTART:20240310T100000
END:DAYLIGHT
BEGIN:STANDARD
TZOFFSETFROM:-0700
TZOFFSETTO:-0800
TZNAME:PST
DTSTART:20241103T090000
END:STANDARD
BEGIN:DAYLIGHT
TZOFFSETFROM:-0800
TZOFFSETTO:-0700
TZNAME:PDT
DTSTART:20250309T100000
END:DAYLIGHT
BEGIN:STANDARD
TZOFFSETFROM:-0700
TZOFFSETTO:-0800
TZNAME:PST
DTSTART:20251102T090000
END:STANDARD
BEGIN:DAYLIGHT
TZOFFSETFROM:-0800
TZOFFSETTO:-0700
TZNAME:PDT
DTSTART:20260308T100000
END:DAYLIGHT
BEGIN:STANDARD
TZOFFSETFROM:-0700
TZOFFSETTO:-0800
TZNAME:PST
DTSTART:20261101T090000
END:STANDARD
END:VTIMEZONE
BEGIN:VEVENT
DTSTART;TZID=America/Los_Angeles:20250325T160000
DTEND;TZID=America/Los_Angeles:20250325T170000
DTSTAMP:20260420T140433
CREATED:20250204T183031Z
LAST-MODIFIED:20250313T214421Z
UID:2929-1742918400-1742922000@weallcalifornia.org
SUMMARY:Policy Discussion - The Future of Work
DESCRIPTION:In February\, we had invigorating discussions on Policy Platform strategies. (When you register\, you will get access to those notes). \nThis month\, we will begin our series of deep dives. Our first topic is “The Future of Work”. \nIf we are pursuing a long term strategy towards a society of health\, wellbeing and equity\, what is our ideal outcome for “jobs”? Shooting for fair wages\, benefits and working conditions should be the minimum. Let’s set the end goal even higher. \nIs a “jobs” guarantee the standard? What if automation eliminates whole sectors? Is Employee Ownership the standard? What other models exist? Or could exist? \nOur discussion will center around these questions. We invite you to bring examples of policies or practices that you admire. Our brainstorm and sharing is intended to shift our collective thinking about what is possible in a future wellbeing economy. \nYou are invited to contribute at either 10am Pacific or 4pm Pacific. \nSign up HERE \nOur updated Platform is here.
URL:https://weallcalifornia.org/event/policy-platform/
LOCATION:Zoom
END:VEVENT
END:VCALENDAR