BEGIN:VCALENDAR
VERSION:2.0
PRODID:-//WEAll California - ECPv6.15.20//NONSGML v1.0//EN
CALSCALE:GREGORIAN
METHOD:PUBLISH
X-ORIGINAL-URL:https://weallcalifornia.org
X-WR-CALDESC:Events for WEAll California
REFRESH-INTERVAL;VALUE=DURATION:PT1H
X-Robots-Tag:noindex
X-PUBLISHED-TTL:PT1H
BEGIN:VTIMEZONE
TZID:America/Los_Angeles
BEGIN:DAYLIGHT
TZOFFSETFROM:-0800
TZOFFSETTO:-0700
TZNAME:PDT
DTSTART:20240310T100000
END:DAYLIGHT
BEGIN:STANDARD
TZOFFSETFROM:-0700
TZOFFSETTO:-0800
TZNAME:PST
DTSTART:20241103T090000
END:STANDARD
BEGIN:DAYLIGHT
TZOFFSETFROM:-0800
TZOFFSETTO:-0700
TZNAME:PDT
DTSTART:20250309T100000
END:DAYLIGHT
BEGIN:STANDARD
TZOFFSETFROM:-0700
TZOFFSETTO:-0800
TZNAME:PST
DTSTART:20251102T090000
END:STANDARD
BEGIN:DAYLIGHT
TZOFFSETFROM:-0800
TZOFFSETTO:-0700
TZNAME:PDT
DTSTART:20260308T100000
END:DAYLIGHT
BEGIN:STANDARD
TZOFFSETFROM:-0700
TZOFFSETTO:-0800
TZNAME:PST
DTSTART:20261101T090000
END:STANDARD
END:VTIMEZONE
BEGIN:VEVENT
DTSTART;TZID=America/Los_Angeles:20250327T160000
DTEND;TZID=America/Los_Angeles:20250327T170000
DTSTAMP:20260420T140432
CREATED:20250319T145336Z
LAST-MODIFIED:20250319T145336Z
UID:2997-1743091200-1743094800@weallcalifornia.org
SUMMARY:Policy Deep Dive and Action Event - CA Utilities
DESCRIPTION:Reclaim our Power is building support for SB332 to begin to move us from corporate for-profit utilities (PG&E\, SC Edison) to local\, community owned utilities.  Reclaim Our Power has done extensive studies showing multiple benefits:  savings\, reduced risk and building community “power” (the other type). \nCalifornia Senate Bill 332 will be introduced in early April and WEAll California would like to help get organizations to sign on to their letter in support of the bill. \nWe invite you to a presentation on the details of the studies and benefits next Thursday\, March 27 at 4pm \nReclaim Our Power will answer any questions you have.  You can learn more at https://reclaimourpowerca.org/ \nOr if your organization would like to show support you can sign on to the letter here \nSign up for our event  HERE \n  \nIf you want to earn extra credit\, you can read David Dayen’s article on The Secret Society raising your Electricity Bills \nhttps://prospect.org/environment/2025-02-21-secret-society-raising-your-electricity-bills/
URL:https://weallcalifornia.org/event/policy-deep-dive-and-action-event-ca-utilities/
LOCATION:Zoom
END:VEVENT
END:VCALENDAR