BEGIN:VCALENDAR
VERSION:2.0
PRODID:-//WEAll California - ECPv6.15.20//NONSGML v1.0//EN
CALSCALE:GREGORIAN
METHOD:PUBLISH
X-WR-CALNAME:WEAll California
X-ORIGINAL-URL:https://weallcalifornia.org
X-WR-CALDESC:Events for WEAll California
REFRESH-INTERVAL;VALUE=DURATION:PT1H
X-Robots-Tag:noindex
X-PUBLISHED-TTL:PT1H
BEGIN:VTIMEZONE
TZID:America/Los_Angeles
BEGIN:DAYLIGHT
TZOFFSETFROM:-0800
TZOFFSETTO:-0700
TZNAME:PDT
DTSTART:20240310T100000
END:DAYLIGHT
BEGIN:STANDARD
TZOFFSETFROM:-0700
TZOFFSETTO:-0800
TZNAME:PST
DTSTART:20241103T090000
END:STANDARD
BEGIN:DAYLIGHT
TZOFFSETFROM:-0800
TZOFFSETTO:-0700
TZNAME:PDT
DTSTART:20250309T100000
END:DAYLIGHT
BEGIN:STANDARD
TZOFFSETFROM:-0700
TZOFFSETTO:-0800
TZNAME:PST
DTSTART:20251102T090000
END:STANDARD
BEGIN:DAYLIGHT
TZOFFSETFROM:-0800
TZOFFSETTO:-0700
TZNAME:PDT
DTSTART:20260308T100000
END:DAYLIGHT
BEGIN:STANDARD
TZOFFSETFROM:-0700
TZOFFSETTO:-0800
TZNAME:PST
DTSTART:20261101T090000
END:STANDARD
END:VTIMEZONE
BEGIN:VEVENT
DTSTART;TZID=America/Los_Angeles:20250410T110000
DTEND;TZID=America/Los_Angeles:20250410T120000
DTSTAMP:20260420T122207
CREATED:20250226T171431Z
LAST-MODIFIED:20250313T215008Z
UID:2948-1744282800-1744286400@weallcalifornia.org
SUMMARY:Narrative Expert - Jasmine Banks
DESCRIPTION:Storytelling and Communication is important to the art of Movement Building.  Continuing our 2025 theme of learning from experts and doing exploratory workshops\, we are excited to welcome Jasmine Banks for a Q&A session on April 10. \nJasmine has been successful across multiple organizations\, platforms and communication types.  Some of her projects include Generation Common Good\, UnKoch My Campus and the successful podcast Parenting Is Political since 2010.  Jasmine has a substantial online following and led a campaign that had over 2 million views in the first 24 hours. \nThursday April 10th at 11am Pacific \nSign up HERE \n 
URL:https://weallcalifornia.org/event/using-social-media-to-organize/
LOCATION:Zoom
END:VEVENT
END:VCALENDAR