BEGIN:VCALENDAR
VERSION:2.0
PRODID:-//WEAll California - ECPv6.15.20//NONSGML v1.0//EN
CALSCALE:GREGORIAN
METHOD:PUBLISH
X-WR-CALNAME:WEAll California
X-ORIGINAL-URL:https://weallcalifornia.org
X-WR-CALDESC:Events for WEAll California
REFRESH-INTERVAL;VALUE=DURATION:PT1H
X-Robots-Tag:noindex
X-PUBLISHED-TTL:PT1H
BEGIN:VTIMEZONE
TZID:America/Los_Angeles
BEGIN:DAYLIGHT
TZOFFSETFROM:-0800
TZOFFSETTO:-0700
TZNAME:PDT
DTSTART:20240310T100000
END:DAYLIGHT
BEGIN:STANDARD
TZOFFSETFROM:-0700
TZOFFSETTO:-0800
TZNAME:PST
DTSTART:20241103T090000
END:STANDARD
BEGIN:DAYLIGHT
TZOFFSETFROM:-0800
TZOFFSETTO:-0700
TZNAME:PDT
DTSTART:20250309T100000
END:DAYLIGHT
BEGIN:STANDARD
TZOFFSETFROM:-0700
TZOFFSETTO:-0800
TZNAME:PST
DTSTART:20251102T090000
END:STANDARD
BEGIN:DAYLIGHT
TZOFFSETFROM:-0800
TZOFFSETTO:-0700
TZNAME:PDT
DTSTART:20260308T100000
END:DAYLIGHT
BEGIN:STANDARD
TZOFFSETFROM:-0700
TZOFFSETTO:-0800
TZNAME:PST
DTSTART:20261101T090000
END:STANDARD
END:VTIMEZONE
BEGIN:VEVENT
DTSTART;TZID=America/Los_Angeles:20250501T090000
DTEND;TZID=America/Los_Angeles:20250501T100000
DTSTAMP:20260419T225306
CREATED:20250228T175539Z
LAST-MODIFIED:20250401T183129Z
UID:2972-1746090000-1746093600@weallcalifornia.org
SUMMARY:Narrative Expert "Office Hours" with Akira Nakahara
DESCRIPTION:Akira Nakahara is the CEO of Imperative 21\, a network dedicated to building narrative power for a just and inclusive economy. He is also a co-lead of a new initiative\, The Beloved Economies for Narrative Infrastructure working on a multi-year project to bring inclusive and well-being economic ideas into the mainstream. \nImperative 21 is global network building narrative power for a just economy. Strategic partners include: B Lab\, The B Team\, CECP\, Wellbeing Economy Alliance (Global)\, Forward Global\, New Capitalism Project\, Common Future\, The GIIN\, JUST Capital\, and Participant. \nOn Thursday\, May 1st\,  Akira will share his thoughts on his view of what’s needed to identify winning messages and shift the narrative and take questions from our community on movement or people’s specific organizations and how to improve strategy. \nJoin us\, Thursday May 1st at 9am Pacific\nSign up HERE \nThis is part of our Narrative Series running throughout 2025. \n  \n 
URL:https://weallcalifornia.org/event/narrative-expert-office-hours/
LOCATION:Zoom
END:VEVENT
END:VCALENDAR