BEGIN:VCALENDAR
VERSION:2.0
PRODID:-//WEAll California - ECPv6.15.20//NONSGML v1.0//EN
CALSCALE:GREGORIAN
METHOD:PUBLISH
X-WR-CALNAME:WEAll California
X-ORIGINAL-URL:https://weallcalifornia.org
X-WR-CALDESC:Events for WEAll California
REFRESH-INTERVAL;VALUE=DURATION:PT1H
X-Robots-Tag:noindex
X-PUBLISHED-TTL:PT1H
BEGIN:VTIMEZONE
TZID:America/Los_Angeles
BEGIN:DAYLIGHT
TZOFFSETFROM:-0800
TZOFFSETTO:-0700
TZNAME:PDT
DTSTART:20240310T100000
END:DAYLIGHT
BEGIN:STANDARD
TZOFFSETFROM:-0700
TZOFFSETTO:-0800
TZNAME:PST
DTSTART:20241103T090000
END:STANDARD
BEGIN:DAYLIGHT
TZOFFSETFROM:-0800
TZOFFSETTO:-0700
TZNAME:PDT
DTSTART:20250309T100000
END:DAYLIGHT
BEGIN:STANDARD
TZOFFSETFROM:-0700
TZOFFSETTO:-0800
TZNAME:PST
DTSTART:20251102T090000
END:STANDARD
BEGIN:DAYLIGHT
TZOFFSETFROM:-0800
TZOFFSETTO:-0700
TZNAME:PDT
DTSTART:20260308T100000
END:DAYLIGHT
BEGIN:STANDARD
TZOFFSETFROM:-0700
TZOFFSETTO:-0800
TZNAME:PST
DTSTART:20261101T090000
END:STANDARD
END:VTIMEZONE
BEGIN:VEVENT
DTSTART;TZID=America/Los_Angeles:20250530T090000
DTEND;TZID=America/Los_Angeles:20250530T100000
DTSTAMP:20260419T225411
CREATED:20250414T230709Z
LAST-MODIFIED:20250416T013535Z
UID:3033-1748595600-1748599200@weallcalifornia.org
SUMMARY:Using Values to Create Local Community
DESCRIPTION:Dr. Neil Hawkes specializes in community. \nNeil is the founder of Values-based Education(VbE)\, which is a whole school philosophy and methodology to create a learning and teaching environment based on universal human values. It enables young people to develop their character\, which is Self-led. \nSelf leadership is the gift of VbE\, which is so needed in the world. VbE includes students\, parents\, teachers and the community. It has been successfully run all around our planet. \nIf you are interested in how deep discussions about Values can build community\, please join us this event hosted by US Values Alliance on Friday\, May 30 at 9am Pacific. \nSign up HERE \nYou can learn more about Dr. Hawkes at https://www.neilhawkes.org/ \n  \n 
URL:https://weallcalifornia.org/event/using-values-to-create-local-community/
LOCATION:Zoom
END:VEVENT
END:VCALENDAR