BEGIN:VCALENDAR
VERSION:2.0
PRODID:-//WEAll California - ECPv6.15.20//NONSGML v1.0//EN
CALSCALE:GREGORIAN
METHOD:PUBLISH
X-ORIGINAL-URL:https://weallcalifornia.org
X-WR-CALDESC:Events for WEAll California
REFRESH-INTERVAL;VALUE=DURATION:PT1H
X-Robots-Tag:noindex
X-PUBLISHED-TTL:PT1H
BEGIN:VTIMEZONE
TZID:America/Los_Angeles
BEGIN:DAYLIGHT
TZOFFSETFROM:-0800
TZOFFSETTO:-0700
TZNAME:PDT
DTSTART:20240310T100000
END:DAYLIGHT
BEGIN:STANDARD
TZOFFSETFROM:-0700
TZOFFSETTO:-0800
TZNAME:PST
DTSTART:20241103T090000
END:STANDARD
BEGIN:DAYLIGHT
TZOFFSETFROM:-0800
TZOFFSETTO:-0700
TZNAME:PDT
DTSTART:20250309T100000
END:DAYLIGHT
BEGIN:STANDARD
TZOFFSETFROM:-0700
TZOFFSETTO:-0800
TZNAME:PST
DTSTART:20251102T090000
END:STANDARD
BEGIN:DAYLIGHT
TZOFFSETFROM:-0800
TZOFFSETTO:-0700
TZNAME:PDT
DTSTART:20260308T100000
END:DAYLIGHT
BEGIN:STANDARD
TZOFFSETFROM:-0700
TZOFFSETTO:-0800
TZNAME:PST
DTSTART:20261101T090000
END:STANDARD
END:VTIMEZONE
BEGIN:VEVENT
DTSTART;TZID=America/Los_Angeles:20250624T160000
DTEND;TZID=America/Los_Angeles:20250624T170000
DTSTAMP:20260422T033209
CREATED:20250531T174111Z
LAST-MODIFIED:20250531T175631Z
UID:3099-1750780800-1750784400@weallcalifornia.org
SUMMARY:Narrative Workshop - Leveraging the Governor's Race
DESCRIPTION:2026 will be the California Governor’s race.  How can we leverage some of the tools being shared by the experts presenting to WEAll CA this year?   What sort of message do we want to send?  What tools and tactics can we utilize? \nThis will be an interactive group session where we collectively examine options available to us. \nHow do we build a collective strategy to get more Californians thinking a Wellbeing Economy is in reach?! \nJoin us in setting the action plan \nTuesday\, June 24th at 4pm.  Sign up HERE \n  \nYou may want to check out our last 2 Narrative training sessions \n\nAkira Nakahara\, Imperative 21 \nJennifer Messenger\, Met Group and Anita Chandra\, RAND\n\nOr sign up for one of our 3 upcoming Narrative Learning sessions: \n\nJune 26 – Jasmine Banks\, UnKoch My Campus \nJuly 7 – Frances Rayner\, WEAll Global Communications\nJuly 10 – David Ballard\, Groundwork Collaborative
URL:https://weallcalifornia.org/event/narrative-workshop-leveraging-the-governors-race/
LOCATION:Zoom
END:VEVENT
END:VCALENDAR