BEGIN:VCALENDAR
VERSION:2.0
PRODID:-//WEAll California - ECPv6.15.20//NONSGML v1.0//EN
CALSCALE:GREGORIAN
METHOD:PUBLISH
X-ORIGINAL-URL:https://weallcalifornia.org
X-WR-CALDESC:Events for WEAll California
REFRESH-INTERVAL;VALUE=DURATION:PT1H
X-Robots-Tag:noindex
X-PUBLISHED-TTL:PT1H
BEGIN:VTIMEZONE
TZID:America/Los_Angeles
BEGIN:DAYLIGHT
TZOFFSETFROM:-0800
TZOFFSETTO:-0700
TZNAME:PDT
DTSTART:20240310T100000
END:DAYLIGHT
BEGIN:STANDARD
TZOFFSETFROM:-0700
TZOFFSETTO:-0800
TZNAME:PST
DTSTART:20241103T090000
END:STANDARD
BEGIN:DAYLIGHT
TZOFFSETFROM:-0800
TZOFFSETTO:-0700
TZNAME:PDT
DTSTART:20250309T100000
END:DAYLIGHT
BEGIN:STANDARD
TZOFFSETFROM:-0700
TZOFFSETTO:-0800
TZNAME:PST
DTSTART:20251102T090000
END:STANDARD
BEGIN:DAYLIGHT
TZOFFSETFROM:-0800
TZOFFSETTO:-0700
TZNAME:PDT
DTSTART:20260308T100000
END:DAYLIGHT
BEGIN:STANDARD
TZOFFSETFROM:-0700
TZOFFSETTO:-0800
TZNAME:PST
DTSTART:20261101T090000
END:STANDARD
END:VTIMEZONE
BEGIN:VEVENT
DTSTART;TZID=America/Los_Angeles:20250709T160000
DTEND;TZID=America/Los_Angeles:20250709T170000
DTSTAMP:20260420T071035
CREATED:20250609T175303Z
LAST-MODIFIED:20250609T175435Z
UID:3107-1752076800-1752080400@weallcalifornia.org
SUMMARY:Planning Meeting
DESCRIPTION:All of WEAll California events and programs are run by our volunteer working group. \nIf you would like to help us with our current and future projects\, this is the place to be. \nWe meet every two weeks. \nOur projects under consideration right now are: \n\nLeveraging the 2026 Governors Race\nPlanning In Person Events\nOrganizing a Wellbeing Economy Conference for 2026\nHow to improve our social media game\n\nTo learn more about how to participate\, please email us at connect@weallcalifornia.org
URL:https://weallcalifornia.org/event/volunteer-team-meeting-5-2-2-2-3-2/
LOCATION:Zoom
END:VEVENT
END:VCALENDAR