BEGIN:VCALENDAR
VERSION:2.0
PRODID:-//WEAll California - ECPv6.15.20//NONSGML v1.0//EN
CALSCALE:GREGORIAN
METHOD:PUBLISH
X-WR-CALNAME:WEAll California
X-ORIGINAL-URL:https://weallcalifornia.org
X-WR-CALDESC:Events for WEAll California
REFRESH-INTERVAL;VALUE=DURATION:PT1H
X-Robots-Tag:noindex
X-PUBLISHED-TTL:PT1H
BEGIN:VTIMEZONE
TZID:America/Los_Angeles
BEGIN:DAYLIGHT
TZOFFSETFROM:-0800
TZOFFSETTO:-0700
TZNAME:PDT
DTSTART:20240310T100000
END:DAYLIGHT
BEGIN:STANDARD
TZOFFSETFROM:-0700
TZOFFSETTO:-0800
TZNAME:PST
DTSTART:20241103T090000
END:STANDARD
BEGIN:DAYLIGHT
TZOFFSETFROM:-0800
TZOFFSETTO:-0700
TZNAME:PDT
DTSTART:20250309T100000
END:DAYLIGHT
BEGIN:STANDARD
TZOFFSETFROM:-0700
TZOFFSETTO:-0800
TZNAME:PST
DTSTART:20251102T090000
END:STANDARD
BEGIN:DAYLIGHT
TZOFFSETFROM:-0800
TZOFFSETTO:-0700
TZNAME:PDT
DTSTART:20260308T100000
END:DAYLIGHT
BEGIN:STANDARD
TZOFFSETFROM:-0700
TZOFFSETTO:-0800
TZNAME:PST
DTSTART:20261101T090000
END:STANDARD
END:VTIMEZONE
BEGIN:VEVENT
DTSTART;TZID=America/Los_Angeles:20250710T100000
DTEND;TZID=America/Los_Angeles:20250710T110000
DTSTAMP:20260420T071018
CREATED:20250613T152826Z
LAST-MODIFIED:20250613T152826Z
UID:3126-1752141600-1752145200@weallcalifornia.org
SUMMARY:Narrative Expert Series - Best Practices for Leveraging Current Economic Fights
DESCRIPTION:Groundwork Collaborative fights to change economic policy and narratives in order to build public power\, break up concentrations of private power\, and deliver true opportunity and prosperity for all. \nGroundwork’s David Ballard focuses on Narrative Strategies and will share some of his expertise and tools to help us craft effective messaging on the economy. David will use the fight against the Republican tax bill to illustrate how to put these ideas into practice and: \n\nEnsure our communications empower our audiences\nDefine what constitutes a winning narrative\nEffectively talk about the people and institutions breaking our economy\n\nAfter the presentation\, our community will have plenty of time to ask David specifics about these tips and how they might be leveraged for your work. \nGroundwork deploys economic research\, narrative change\, and strategic partnerships to help build an economy that works for all. \nTo join us on Thursday\, July 10th from 10 to 11am Pacific\, please click below \nhttps://docs.google.com/forms/d/e/1FAIpQLSfI_BPjI5Ps0oWuutTa8tsaccptmed2iZP2W7KZaKJFLvEtaA/viewform?usp=sharing&ouid=113715013713551266073 \n  \nLearn more at https://groundworkcollaborative.org/
URL:https://weallcalifornia.org/event/narrative-expert-series-best-practices-for-leveraging-current-economic-fights/
LOCATION:Zoom
END:VEVENT
BEGIN:VEVENT
DTSTART;TZID=America/Los_Angeles:20250710T120000
DTEND;TZID=America/Los_Angeles:20250710T130000
DTSTAMP:20260420T071018
CREATED:20250613T151946Z
LAST-MODIFIED:20250613T151946Z
UID:3121-1752148800-1752152400@weallcalifornia.org
SUMMARY:Good Gov LA
DESCRIPTION:Good Gov LA brings together groups focused on healthy democracy across Los Angeles for a chance to connect\, create opportunities for partnership and build a supportive network. \nNot all of the groups need to be fully aligned and many have special focuses like election reforms\, ethics and accountability or public engagement in democracy. \nIn June\, we discussed Democracy Vouchers\, getting bills passed in LA and protest rights. \nIn July\, we plan to discuss a mock Civic Assembly in Culver City and how to increase voter engagement. \nThe group holds monthly zoom meetings the second Thursday of each month at 12pm Pacific and occasional in person networking events. \nTo join a meeting or learn more\, please fill out this FORM. \nWEAll California is a partner in this venture.  Healthy Democracy and Collaboration are essential pillars to a wellbeing future.
URL:https://weallcalifornia.org/event/good-gov-la-2-2/
LOCATION:Zoom
END:VEVENT
BEGIN:VEVENT
DTSTART;TZID=America/Los_Angeles:20250710T130000
DTEND;TZID=America/Los_Angeles:20250710T140000
DTSTAMP:20260420T071018
CREATED:20250708T215639Z
LAST-MODIFIED:20250708T215639Z
UID:3142-1752152400-1752156000@weallcalifornia.org
SUMMARY:Local Leaders Monthly Forum
DESCRIPTION:This is a recurring monthly meeting for people involved in creating Wellbeing Economies in their local community. \nWe discuss challenges specific to growing local wellbeing economy initiatives in a local area and share solutions\, feedback and support. \nThis Forum requires an application to join to make sure it is a good fit.  If you think this could be a good fit for you\, please fill out this short form \n 
URL:https://weallcalifornia.org/event/local-leaders-monthly-forum-2-2/
LOCATION:Zoom
END:VEVENT
END:VCALENDAR