BEGIN:VCALENDAR
VERSION:2.0
PRODID:-//WEAll California - ECPv6.15.20//NONSGML v1.0//EN
CALSCALE:GREGORIAN
METHOD:PUBLISH
X-ORIGINAL-URL:https://weallcalifornia.org
X-WR-CALDESC:Events for WEAll California
REFRESH-INTERVAL;VALUE=DURATION:PT1H
X-Robots-Tag:noindex
X-PUBLISHED-TTL:PT1H
BEGIN:VTIMEZONE
TZID:America/Los_Angeles
BEGIN:DAYLIGHT
TZOFFSETFROM:-0800
TZOFFSETTO:-0700
TZNAME:PDT
DTSTART:20240310T100000
END:DAYLIGHT
BEGIN:STANDARD
TZOFFSETFROM:-0700
TZOFFSETTO:-0800
TZNAME:PST
DTSTART:20241103T090000
END:STANDARD
BEGIN:DAYLIGHT
TZOFFSETFROM:-0800
TZOFFSETTO:-0700
TZNAME:PDT
DTSTART:20250309T100000
END:DAYLIGHT
BEGIN:STANDARD
TZOFFSETFROM:-0700
TZOFFSETTO:-0800
TZNAME:PST
DTSTART:20251102T090000
END:STANDARD
BEGIN:DAYLIGHT
TZOFFSETFROM:-0800
TZOFFSETTO:-0700
TZNAME:PDT
DTSTART:20260308T100000
END:DAYLIGHT
BEGIN:STANDARD
TZOFFSETFROM:-0700
TZOFFSETTO:-0800
TZNAME:PST
DTSTART:20261101T090000
END:STANDARD
END:VTIMEZONE
BEGIN:VEVENT
DTSTART;TZID=America/Los_Angeles:20250724T090000
DTEND;TZID=America/Los_Angeles:20250724T100000
DTSTAMP:20260420T001947
CREATED:20250616T225233Z
LAST-MODIFIED:20250616T225233Z
UID:3130-1753347600-1753351200@weallcalifornia.org
SUMMARY:Book Club - Maria Ressa - How to Stand Up to A Dictator
DESCRIPTION:Maria is an accomplished journalist\, has run international news bureaus and is the winner of the Nobel Peace Prize.    Her book is part autobiography and her experience with 2 different dictators in the Phillipines. \nIn our second meeting on this book\, we will explore Chapters 5 to 8.   Feel free to join us if you didn’t come to the first meeting. \nMaria is a fabulous writer\, so I think you will enjoy the book and her focus on Values. \nThursday\, July 24 at 9am Pacific \nSIGN UP HERE \nHere is a link to the book on Amazon for reference\, but I encourage you to find a non Amazon way to purchase or borrow it. \nhttps://www.amazon.com/How-Stand-Up-Dictator-Future/dp/0063257521 \nThis event is in partnership with US Values Alliance
URL:https://weallcalifornia.org/event/book-club-maria-ressa-how-to-stand-up-to-a-dictator/
LOCATION:Zoom
END:VEVENT
END:VCALENDAR