BEGIN:VCALENDAR
VERSION:2.0
PRODID:-//WEAll California - ECPv6.15.20//NONSGML v1.0//EN
CALSCALE:GREGORIAN
METHOD:PUBLISH
X-WR-CALNAME:WEAll California
X-ORIGINAL-URL:https://weallcalifornia.org
X-WR-CALDESC:Events for WEAll California
REFRESH-INTERVAL;VALUE=DURATION:PT1H
X-Robots-Tag:noindex
X-PUBLISHED-TTL:PT1H
BEGIN:VTIMEZONE
TZID:America/Los_Angeles
BEGIN:DAYLIGHT
TZOFFSETFROM:-0800
TZOFFSETTO:-0700
TZNAME:PDT
DTSTART:20240310T100000
END:DAYLIGHT
BEGIN:STANDARD
TZOFFSETFROM:-0700
TZOFFSETTO:-0800
TZNAME:PST
DTSTART:20241103T090000
END:STANDARD
BEGIN:DAYLIGHT
TZOFFSETFROM:-0800
TZOFFSETTO:-0700
TZNAME:PDT
DTSTART:20250309T100000
END:DAYLIGHT
BEGIN:STANDARD
TZOFFSETFROM:-0700
TZOFFSETTO:-0800
TZNAME:PST
DTSTART:20251102T090000
END:STANDARD
BEGIN:DAYLIGHT
TZOFFSETFROM:-0800
TZOFFSETTO:-0700
TZNAME:PDT
DTSTART:20260308T100000
END:DAYLIGHT
BEGIN:STANDARD
TZOFFSETFROM:-0700
TZOFFSETTO:-0800
TZNAME:PST
DTSTART:20261101T090000
END:STANDARD
END:VTIMEZONE
BEGIN:VEVENT
DTSTART;TZID=America/Los_Angeles:20250729T163000
DTEND;TZID=America/Los_Angeles:20250729T193000
DTSTAMP:20260420T051747
CREATED:20250708T221202Z
LAST-MODIFIED:20250708T221202Z
UID:3148-1753806600-1753817400@weallcalifornia.org
SUMMARY:WEAll CA - In Person - Pomona
DESCRIPTION:WEAll California is launching our “Chips\, Salsa and Collaboration Tour”!  We will be hosting local gatherings in 7 regions this summer. \nWe are pleased to announce the Pomona gathering. \nIt will take place on Tuesday\, July 29th from 430 to 730pm \nThe event is designed to bring together people who work in different components of a Wellbeing Economy to connect\, build relationships\, and brainstorm what better collaboration and partnership around specific projects looks like in the future. \nThe event is co-hosted by Latino/Latina Round Table \nIf you would like join us\, please fill out this form \nThe event will be a casual networking discussion with some food available
URL:https://weallcalifornia.org/event/weall-ca-in-person-inland-empire-2/
LOCATION:Pomona\, CA
END:VEVENT
END:VCALENDAR