BEGIN:VCALENDAR
VERSION:2.0
PRODID:-//WEAll California - ECPv6.15.20//NONSGML v1.0//EN
CALSCALE:GREGORIAN
METHOD:PUBLISH
X-WR-CALNAME:WEAll California
X-ORIGINAL-URL:https://weallcalifornia.org
X-WR-CALDESC:Events for WEAll California
REFRESH-INTERVAL;VALUE=DURATION:PT1H
X-Robots-Tag:noindex
X-PUBLISHED-TTL:PT1H
BEGIN:VTIMEZONE
TZID:America/Los_Angeles
BEGIN:DAYLIGHT
TZOFFSETFROM:-0800
TZOFFSETTO:-0700
TZNAME:PDT
DTSTART:20240310T100000
END:DAYLIGHT
BEGIN:STANDARD
TZOFFSETFROM:-0700
TZOFFSETTO:-0800
TZNAME:PST
DTSTART:20241103T090000
END:STANDARD
BEGIN:DAYLIGHT
TZOFFSETFROM:-0800
TZOFFSETTO:-0700
TZNAME:PDT
DTSTART:20250309T100000
END:DAYLIGHT
BEGIN:STANDARD
TZOFFSETFROM:-0700
TZOFFSETTO:-0800
TZNAME:PST
DTSTART:20251102T090000
END:STANDARD
BEGIN:DAYLIGHT
TZOFFSETFROM:-0800
TZOFFSETTO:-0700
TZNAME:PDT
DTSTART:20260308T100000
END:DAYLIGHT
BEGIN:STANDARD
TZOFFSETFROM:-0700
TZOFFSETTO:-0800
TZNAME:PST
DTSTART:20261101T090000
END:STANDARD
END:VTIMEZONE
BEGIN:VEVENT
DTSTART;TZID=America/Los_Angeles:20250807T090000
DTEND;TZID=America/Los_Angeles:20250807T100000
DTSTAMP:20260419T060641
CREATED:20250530T193428Z
LAST-MODIFIED:20250530T193428Z
UID:3095-1754557200-1754560800@weallcalifornia.org
SUMMARY:Narrative Series - Tested ways to build support for Wellbeing Economies
DESCRIPTION:On Thursday\, August 9th at 9am Pacific\, we will be joined by Frances Rayner – Communications and Narratives Co-Lead from the global Wellbeing Economy Alliance to share some key insights from recent communications research. \nFrances looked at more than 20 studies done on what messaging is most effective to help people think about the economy as something we can redesign in the name of equity and the environment. In this session she’ll share seven key takeaways you can implement in your work. \nFrances came to the Global Team after working with the WEAll Scotland team to put the Wellbeing Economy on the national agenda. Prior to that she helped a range of non-profit organisations in Scotland secure policy changes on climate and income inequality through public campaigns. \nJoin us on Thursday\, August 9 at 9am Pacific \nSign up HERE \n 
URL:https://weallcalifornia.org/event/narrative-series-tested-ways-to-build-support-for-wellbeing-economies/
LOCATION:Zoom
END:VEVENT
END:VCALENDAR