BEGIN:VCALENDAR
VERSION:2.0
PRODID:-//WEAll California - ECPv6.15.20//NONSGML v1.0//EN
CALSCALE:GREGORIAN
METHOD:PUBLISH
X-ORIGINAL-URL:https://weallcalifornia.org
X-WR-CALDESC:Events for WEAll California
REFRESH-INTERVAL;VALUE=DURATION:PT1H
X-Robots-Tag:noindex
X-PUBLISHED-TTL:PT1H
BEGIN:VTIMEZONE
TZID:America/Los_Angeles
BEGIN:DAYLIGHT
TZOFFSETFROM:-0800
TZOFFSETTO:-0700
TZNAME:PDT
DTSTART:20240310T100000
END:DAYLIGHT
BEGIN:STANDARD
TZOFFSETFROM:-0700
TZOFFSETTO:-0800
TZNAME:PST
DTSTART:20241103T090000
END:STANDARD
BEGIN:DAYLIGHT
TZOFFSETFROM:-0800
TZOFFSETTO:-0700
TZNAME:PDT
DTSTART:20250309T100000
END:DAYLIGHT
BEGIN:STANDARD
TZOFFSETFROM:-0700
TZOFFSETTO:-0800
TZNAME:PST
DTSTART:20251102T090000
END:STANDARD
BEGIN:DAYLIGHT
TZOFFSETFROM:-0800
TZOFFSETTO:-0700
TZNAME:PDT
DTSTART:20260308T100000
END:DAYLIGHT
BEGIN:STANDARD
TZOFFSETFROM:-0700
TZOFFSETTO:-0800
TZNAME:PST
DTSTART:20261101T090000
END:STANDARD
END:VTIMEZONE
BEGIN:VEVENT
DTSTART;VALUE=DATE:20250929
DTEND;VALUE=DATE:20251002
DTSTAMP:20260420T015447
CREATED:20250825T234432Z
LAST-MODIFIED:20250825T234432Z
UID:3194-1759104000-1759363199@weallcalifornia.org
SUMMARY:Neighborhood Economics Conference
DESCRIPTION:A gathering where innovators\, investors\, faith leaders\, policy shapers\, and neighborhood champions come together to rewrite the rules of prosperity. \nFrom unlocking equitable access to capital and cultivating shared‑ownership models to fusing entrepreneurship with values‑driven finance\, we’ll explore how wealth can be created\, stewarded\, and shared\, with insights that can help more communities around the country flourish. Join us to swap playbooks\, spark partnerships\, and leave with actionable strategies that move money with purpose and put people at the center of the balance sheet. \nNeighborhood Economics operates from the philosophy that the Neighborhood is the key for Economic repair. \nJoin them in Chicago to meet others looking to improve society. \nSee more HERE
URL:https://weallcalifornia.org/event/neighborhood-economics-conference/
END:VEVENT
BEGIN:VEVENT
DTSTART;TZID=America/Los_Angeles:20251001T160000
DTEND;TZID=America/Los_Angeles:20251001T170000
DTSTAMP:20260420T015447
CREATED:20250920T173245Z
LAST-MODIFIED:20250920T173245Z
UID:3239-1759334400-1759338000@weallcalifornia.org
SUMMARY:Learning Events Planning Team
DESCRIPTION:Curious who is making WEAll CA’s program and events?   Want to join our merry band? \nThis working group meets the first Monday of each month. \nWe already have a great lineup for Fall 2025 and we are beginning to discuss and research events for 2026. \nIn addition to virtual events\, we are looking at more in person events and possibly a conference. \n  \nTo learn more about how to participate\, please email us at connect@weallcalifornia.org
URL:https://weallcalifornia.org/event/volunteer-team-meeting-5-2-2-2-3-2-2-2-2-3/
LOCATION:Zoom
END:VEVENT
END:VCALENDAR