BEGIN:VCALENDAR
VERSION:2.0
PRODID:-//WEAll California - ECPv6.15.20//NONSGML v1.0//EN
CALSCALE:GREGORIAN
METHOD:PUBLISH
X-ORIGINAL-URL:https://weallcalifornia.org
X-WR-CALDESC:Events for WEAll California
REFRESH-INTERVAL;VALUE=DURATION:PT1H
X-Robots-Tag:noindex
X-PUBLISHED-TTL:PT1H
BEGIN:VTIMEZONE
TZID:America/Los_Angeles
BEGIN:DAYLIGHT
TZOFFSETFROM:-0800
TZOFFSETTO:-0700
TZNAME:PDT
DTSTART:20240310T100000
END:DAYLIGHT
BEGIN:STANDARD
TZOFFSETFROM:-0700
TZOFFSETTO:-0800
TZNAME:PST
DTSTART:20241103T090000
END:STANDARD
BEGIN:DAYLIGHT
TZOFFSETFROM:-0800
TZOFFSETTO:-0700
TZNAME:PDT
DTSTART:20250309T100000
END:DAYLIGHT
BEGIN:STANDARD
TZOFFSETFROM:-0700
TZOFFSETTO:-0800
TZNAME:PST
DTSTART:20251102T090000
END:STANDARD
BEGIN:DAYLIGHT
TZOFFSETFROM:-0800
TZOFFSETTO:-0700
TZNAME:PDT
DTSTART:20260308T100000
END:DAYLIGHT
BEGIN:STANDARD
TZOFFSETFROM:-0700
TZOFFSETTO:-0800
TZNAME:PST
DTSTART:20261101T090000
END:STANDARD
END:VTIMEZONE
BEGIN:VEVENT
DTSTART;TZID=America/Los_Angeles:20251022T110000
DTEND;TZID=America/Los_Angeles:20251022T120000
DTSTAMP:20260420T021326
CREATED:20250924T211713Z
LAST-MODIFIED:20250924T211713Z
UID:3245-1761130800-1761134400@weallcalifornia.org
SUMMARY:Wellbeing Economics in Higher Education - October Meeting
DESCRIPTION:We had a lively discussion about what this group should pursue next.  Which led to a discussion about HOW to talk about Wellbeing Economies\, what resonates with people\, what do we mean when we say Wellbeing Economy and communication styles. \nWe deciding to dig in further to these topics in our October meeting. \nIf you work in Education or are a student\, please feel free to join this recurring meeting group. \nTo join our meetings\, please signup HERE \nAfter you have joined\, you will receive access to our past meeting notes and Resource List.
URL:https://weallcalifornia.org/event/university-connection-2-2-2-2-2-2-2-2/
LOCATION:Zoom
END:VEVENT
BEGIN:VEVENT
DTSTART;TZID=America/Los_Angeles:20251022T160000
DTEND;TZID=America/Los_Angeles:20251022T170000
DTSTAMP:20260420T021326
CREATED:20250806T220852Z
LAST-MODIFIED:20250924T210210Z
UID:3171-1761148800-1761152400@weallcalifornia.org
SUMMARY:Oregon's Success on Healthcare for All
DESCRIPTION:In 2022\, Oregonians voted to pass Ballot Measure 111\, which amends the state constitution to declare access to affordable healthcare a right for every citizen. \nOn Wednesday\, October 22nd\, we will be joined by two of the team members from Health Care for All Oregon who worked on getting Oregonians to pass this measure.  They will share some insights into the language and organizing that helped get a majority vote. \nThey will also share about the work that still needs to be done to define what “affordable healthcare” means and planning for future backlash. \nAs a group\, we will explore what steps Californians might take to have similar success. \nSIGN UP HERE \nCollin Stackhouse\, is the Social Media Coordinator for Health Care for All Oregon \nRebecca Schoon\, Associate Professor of Public Health at Pacific University and Board Member \n https://www.hcao.org/ \n  \n 
URL:https://weallcalifornia.org/event/oregons-success-on-healthcare-for-all/
LOCATION:Zoom
END:VEVENT
END:VCALENDAR