BEGIN:VCALENDAR
VERSION:2.0
PRODID:-//WEAll California - ECPv6.15.20//NONSGML v1.0//EN
CALSCALE:GREGORIAN
METHOD:PUBLISH
X-WR-CALNAME:WEAll California
X-ORIGINAL-URL:https://weallcalifornia.org
X-WR-CALDESC:Events for WEAll California
REFRESH-INTERVAL;VALUE=DURATION:PT1H
X-Robots-Tag:noindex
X-PUBLISHED-TTL:PT1H
BEGIN:VTIMEZONE
TZID:America/Los_Angeles
BEGIN:DAYLIGHT
TZOFFSETFROM:-0800
TZOFFSETTO:-0700
TZNAME:PDT
DTSTART:20210314T100000
END:DAYLIGHT
BEGIN:STANDARD
TZOFFSETFROM:-0700
TZOFFSETTO:-0800
TZNAME:PST
DTSTART:20211107T090000
END:STANDARD
BEGIN:DAYLIGHT
TZOFFSETFROM:-0800
TZOFFSETTO:-0700
TZNAME:PDT
DTSTART:20220313T100000
END:DAYLIGHT
BEGIN:STANDARD
TZOFFSETFROM:-0700
TZOFFSETTO:-0800
TZNAME:PST
DTSTART:20221106T090000
END:STANDARD
BEGIN:DAYLIGHT
TZOFFSETFROM:-0800
TZOFFSETTO:-0700
TZNAME:PDT
DTSTART:20230312T100000
END:DAYLIGHT
BEGIN:STANDARD
TZOFFSETFROM:-0700
TZOFFSETTO:-0800
TZNAME:PST
DTSTART:20231105T090000
END:STANDARD
END:VTIMEZONE
BEGIN:VEVENT
DTSTART;TZID=America/Los_Angeles:20220810T110000
DTEND;TZID=America/Los_Angeles:20220810T120000
DTSTAMP:20260421T042732
CREATED:20220711T000043Z
LAST-MODIFIED:20220711T000043Z
UID:1772-1660129200-1660132800@weallcalifornia.org
SUMMARY:Monthly Convening for Partner Hub
DESCRIPTION:In August we will discuss Deliberative Democracy. \nMore details on our Eventbrite and you can read about this topic at \nhttp://weallcalifornia.org/democracy/deliberative-democracy/
URL:https://weallcalifornia.org/event/monthly-convening-for-partner-hub/
END:VEVENT
BEGIN:VEVENT
DTSTART;TZID=America/Los_Angeles:20220713T110000
DTEND;TZID=America/Los_Angeles:20220713T120000
DTSTAMP:20260421T042732
CREATED:20220710T235730Z
LAST-MODIFIED:20220710T235730Z
UID:1770-1657710000-1657713600@weallcalifornia.org
SUMMARY:Monthly Convening of Partner Hub
DESCRIPTION:At July’s Convening\, we will be discussing \nWhat Makes A Democracy Wise and Healthy \nSign up at Eventbrite \nhttps://www.eventbrite.com/e/wellbeing-alliance-convening-for-july-registration-354288706057 \n 
URL:https://weallcalifornia.org/event/monthly-convening-of-partner-hub/
LOCATION:Zoom
END:VEVENT
BEGIN:VEVENT
DTSTART;TZID=America/Los_Angeles:20220608T110000
DTEND;TZID=America/Los_Angeles:20220608T120000
DTSTAMP:20260421T042732
CREATED:20220430T223849Z
LAST-MODIFIED:20220520T000230Z
UID:1749-1654686000-1654689600@weallcalifornia.org
SUMMARY:Partnership Convening for June
DESCRIPTION:Our idea is to weave together a wide coalition of leaders creating the new economy. We know that many of you are tackling one or more issues to create a healthier California across a wide spectrum of challenges – pollution\, economic justice\, democracy reform\, social innovation and more. Our goal is to form a comprehensive alliance of people working towards this new healthier vision. \nConvenings will be curated to be a space of deep\, soulful connection across groups and networks of groups while also exploring meaningful topics. We believe this weaving will strengthen our overall coalition and lead to further opportunities to collaborate and make sense of the dense\, complex system we are seeking to re-create. \nConvenings will be 1 hour\, once a month. They will be interactive and if all aligns well a bit of fun. \nOur first six topics will be centered around how we collaborate as a nation – also known by the term Democracy. Not only is 2022 an election year\, but many of us see see some deep threats to the health of our democracy.  \nFor our first Convening\, we will dialogue on  \n How the current challenges to our Democracy land on you and affect you. \n\nIn future sessions\, we will talk about specific ways to make Democracy healthier\, more vibrant and inclusive. \nPlease note – the Convenings are not lectures or training sessions\, these are about being heard and making deeper connections. We all look forward to seeing you. \nSign up on Eventbrite 
URL:https://weallcalifornia.org/event/partnership-hub-convening-1/
LOCATION:Zoom
END:VEVENT
END:VCALENDAR