BEGIN:VCALENDAR
VERSION:2.0
PRODID:-//WEAll California - ECPv6.15.20//NONSGML v1.0//EN
CALSCALE:GREGORIAN
METHOD:PUBLISH
X-ORIGINAL-URL:https://weallcalifornia.org
X-WR-CALDESC:Events for WEAll California
REFRESH-INTERVAL;VALUE=DURATION:PT1H
X-Robots-Tag:noindex
X-PUBLISHED-TTL:PT1H
BEGIN:VTIMEZONE
TZID:America/Los_Angeles
BEGIN:DAYLIGHT
TZOFFSETFROM:-0800
TZOFFSETTO:-0700
TZNAME:PDT
DTSTART:20230312T100000
END:DAYLIGHT
BEGIN:STANDARD
TZOFFSETFROM:-0700
TZOFFSETTO:-0800
TZNAME:PST
DTSTART:20231105T090000
END:STANDARD
BEGIN:DAYLIGHT
TZOFFSETFROM:-0800
TZOFFSETTO:-0700
TZNAME:PDT
DTSTART:20240310T100000
END:DAYLIGHT
BEGIN:STANDARD
TZOFFSETFROM:-0700
TZOFFSETTO:-0800
TZNAME:PST
DTSTART:20241103T090000
END:STANDARD
BEGIN:DAYLIGHT
TZOFFSETFROM:-0800
TZOFFSETTO:-0700
TZNAME:PDT
DTSTART:20250309T100000
END:DAYLIGHT
BEGIN:STANDARD
TZOFFSETFROM:-0700
TZOFFSETTO:-0800
TZNAME:PST
DTSTART:20251102T090000
END:STANDARD
END:VTIMEZONE
BEGIN:VEVENT
DTSTART;TZID=America/Los_Angeles:20240215T160000
DTEND;TZID=America/Los_Angeles:20240215T170000
DTSTAMP:20260421T142123
CREATED:20231111T001828Z
LAST-MODIFIED:20231119T182937Z
UID:2551-1708012800-1708016400@weallcalifornia.org
SUMMARY:Place-Based Systems Change Strategies for Regenerating Nature\, Community\, and Local Wealth
DESCRIPTION:Matt Biggar\, Ph.D.\, shares how to bring about Place-Based Systems that get to the root of our growing crises by reorienting people’s lives around the places where they live. Shifting from corporate capitalist to place-based systems is necessary if we are to meaningfully address the interrelated crises of climate change\, biodiversity loss\, widening inequality\, systemic racism\, and growing social divisions. Matt provides examples of strategies that shift power\, transform land use\, reset culture\, and leverage other systems to change systems at regional\, county\, city\, and community levels and make the regeneration of community\, nature\, and local wealth possible. \nMatt is the Founder of Connected to Place\, a consulting firm that supports place-based collaboratives. \nSign up HERE
URL:https://weallcalifornia.org/event/matt-biggar-place-based-systems-change/
LOCATION:Zoom
END:VEVENT
BEGIN:VEVENT
DTSTART;TZID=America/Los_Angeles:20240220T160000
DTEND;TZID=America/Los_Angeles:20240220T170000
DTSTAMP:20260421T142123
CREATED:20240203T004807Z
LAST-MODIFIED:20240203T004807Z
UID:2606-1708444800-1708448400@weallcalifornia.org
SUMMARY:Convening - How to use 2024 Elections to further Wellbeing Economies
DESCRIPTION:Our Convenings are interactive\, community building and areas to get supported and recharged. \nWe ask some questions to get people in conversation.  We encourage gentle and deep listening and ask people to speak from their heart while also being sensitive that other’s will hold different opinions.  We also ask that people not come into this space to promote a product or service. \nWe encourage you to have your cameras on\, be in one stationary place with no shaking of your camera. \nREGISTER HERE
URL:https://weallcalifornia.org/event/convening-how-to-use-2024-elections-to-further-wellbeing-economies/
LOCATION:Zoom
END:VEVENT
BEGIN:VEVENT
DTSTART;TZID=America/Los_Angeles:20240221T160000
DTEND;TZID=America/Los_Angeles:20240221T170000
DTSTAMP:20260421T142123
CREATED:20240116T194009Z
LAST-MODIFIED:20240116T194009Z
UID:2593-1708531200-1708534800@weallcalifornia.org
SUMMARY:WEAll CA Working Group
DESCRIPTION:Would you like to learn more about the work we do to seed more Wellbeing Economies? \nFeel free to drop in to one of our weekly Working Group team meetings to get a sense.  Perhaps we might intrigue you enough to join us for a research project. \nFor more details\, please email us at \nconnect@weallcalifornia.org
URL:https://weallcalifornia.org/event/volunteer-team-meeting-4-2-2-2-2-2-2/
LOCATION:Zoom
END:VEVENT
BEGIN:VEVENT
DTSTART;TZID=America/Los_Angeles:20240222T160000
DTEND;TZID=America/Los_Angeles:20240222T170000
DTSTAMP:20260421T142123
CREATED:20240125T212728Z
LAST-MODIFIED:20240125T212728Z
UID:2600-1708617600-1708621200@weallcalifornia.org
SUMMARY:What do we do about Monopolies if we really want a Wellbeing Economy
DESCRIPTION:Monopolies extort consumers and workers\, rob entrepreneurs and small businesses of opportunity\, and subject our communities to the whims of absentee executives in faraway headquarters. What tools do we have to challenge the concentration of corporate power and bolster free\, fair\, and competitive markets at the state and local levels? \nIn 2023\, Democracy Policy Network launched their Anti-Monoply Kit to help states develop their own strategy and learn what is working across the country. \nMichael Swerdlow and Basel Musharbash will step up through the basic concepts of Anti-Trust legal frameworks to keep businesses and Monopolies in check.   They will review potential CA state legislative options as well as how we can support Federal Anti-Trust work. \nMichael is the Anti-Monopoly Director for Democracy Policy Network. \nBasel is an antitrust and community-development lawyer with Antimonopoly Counsel\, a Texas law firm that represents farmers\, workers\, small businesses and local governments in advocacy and litigation aimed at righting the wrongs of concentrated corporate power — and building a free and fair economy for all. \nJoin us Thursday\, February 22 at 4pm Pacific.  Michael and Basel will answer your questions.   SIGN UP HERE
URL:https://weallcalifornia.org/event/what-do-we-do-about-monopolies-if-we-really-want-a-wellbeing-economy/
LOCATION:Zoom
END:VEVENT
BEGIN:VEVENT
DTSTART;TZID=America/Los_Angeles:20240227T170000
DTEND;TZID=America/Los_Angeles:20240227T180000
DTSTAMP:20260421T142123
CREATED:20240216T194341Z
LAST-MODIFIED:20240216T194407Z
UID:2613-1709053200-1709056800@weallcalifornia.org
SUMMARY:Learn how STAR Voting better represents the will of the people
DESCRIPTION:California Primaries are coming up on March 5th. This year there are 22 candidates vying for Dianne Feinstein’s open Senate seat. Somehow\, we are expected to pick only one! \nIn partnership with the awesome folks at the California chapter of STAR Voting\, we are running a “mock election” using the STAR voting method. This method involves awarding each candidate 0-5 stars to express your relative enthusiasm. The two candidates who receive the most stars are then placed into an automatic runoff where everybody’s preference is taken into account. The result is a system that empowers voters to vote their conscience\, levels the playing field\, and elects more representative candidates. Learn more about how STAR Voting works here. \nVote in WEAll California’s “mock election” for California’s next senator! The “mock election” will close with the real polls on March 5th (The link says Feb 15 – this is an error! We’re working on it.). We plan to share the results alongside actual election data thereafter. \n**VOTE HERE** \nSTAR Voting Learning Event \nOn Tuesday\, February 27th at 5pm we are hosting a virtual Q&A.  There will be brief presentations on STAR voting and the current state of the election\, but we mostly want to hear from YOU! Got questions about STAR voting? Want to discuss the candidates with like-minded Californian’s? Join us and our friends from STAR to learn and discuss: \nRegister For the Event Here \n  \nAdditional Resources: \nWhat is STAR voting? How does it work? Why is it better? \nWho are the candidates? – Official Voter Information Guide \nVoting methods comparison from Occupy Wall Street 2012 \nVoting methods comparison from Chicago Mayoral Election 2023 \nApproval Voting in the California Primary 2024
URL:https://weallcalifornia.org/event/learn-how-star-voting-better-represents-the-will-of-the-people/
LOCATION:Zoom
END:VEVENT
END:VCALENDAR