BEGIN:VCALENDAR
VERSION:2.0
PRODID:-//WEAll California - ECPv6.15.20//NONSGML v1.0//EN
CALSCALE:GREGORIAN
METHOD:PUBLISH
X-ORIGINAL-URL:https://weallcalifornia.org
X-WR-CALDESC:Events for WEAll California
REFRESH-INTERVAL;VALUE=DURATION:PT1H
X-Robots-Tag:noindex
X-PUBLISHED-TTL:PT1H
BEGIN:VTIMEZONE
TZID:America/Los_Angeles
BEGIN:DAYLIGHT
TZOFFSETFROM:-0800
TZOFFSETTO:-0700
TZNAME:PDT
DTSTART:20230312T100000
END:DAYLIGHT
BEGIN:STANDARD
TZOFFSETFROM:-0700
TZOFFSETTO:-0800
TZNAME:PST
DTSTART:20231105T090000
END:STANDARD
BEGIN:DAYLIGHT
TZOFFSETFROM:-0800
TZOFFSETTO:-0700
TZNAME:PDT
DTSTART:20240310T100000
END:DAYLIGHT
BEGIN:STANDARD
TZOFFSETFROM:-0700
TZOFFSETTO:-0800
TZNAME:PST
DTSTART:20241103T090000
END:STANDARD
BEGIN:DAYLIGHT
TZOFFSETFROM:-0800
TZOFFSETTO:-0700
TZNAME:PDT
DTSTART:20250309T100000
END:DAYLIGHT
BEGIN:STANDARD
TZOFFSETFROM:-0700
TZOFFSETTO:-0800
TZNAME:PST
DTSTART:20251102T090000
END:STANDARD
END:VTIMEZONE
BEGIN:VEVENT
DTSTART;TZID=America/Los_Angeles:20240509T160000
DTEND;TZID=America/Los_Angeles:20240509T170000
DTSTAMP:20260421T053139
CREATED:20240426T204501Z
LAST-MODIFIED:20240426T204501Z
UID:2734-1715270400-1715274000@weallcalifornia.org
SUMMARY:Convening on Metrics
DESCRIPTION:Our Convenings are designed for you to meet others working in the Wellbeing Economy\, Local Democracy\, Economic Justice and Climate spaces. \nThe Convenings are spaces to come together for thought provoking yet supportive conversations. \nFollowing our last learning event on Metrics\, we thought it was a perfect time to have a group discussion on Metrics. \nIf you have never been to one of our Convenings before\, we host a welcoming space.  You don’t need to come regularly to feel welcome. \nYou can watch the learning event with Dark Matter Labs and David Suzukia Foundation at  https://www.youtube.com/@WEAllCalifornia \nSIGN UP HERE
URL:https://weallcalifornia.org/event/convening-on-metrics/
LOCATION:Zoom
END:VEVENT
BEGIN:VEVENT
DTSTART;TZID=America/Los_Angeles:20240514T130000
DTEND;TZID=America/Los_Angeles:20240514T141500
DTSTAMP:20260421T053139
CREATED:20240416T225040Z
LAST-MODIFIED:20240417T171831Z
UID:2674-1715691600-1715696100@weallcalifornia.org
SUMMARY:Invigorating Local Democracy with David Pepper
DESCRIPTION:David Pepper is the author of two books on Democracy at the local and state level.  David served as the Chair of the Ohio Democratic Party\, teaches election and voting rights law and is a frequent contributor on many news outlets.   David has a wonderful way of explaining how our lack of attention to local and state voting can work against our interests.  He will share some of his insights and tools on how to invigorate Democracy in your community. \nAfter the presentation\, David will answer your questions. \nOur event today is through a partnership with Reimagining Democracy Hub at Ulab and with special thanks to Anne Adams for arranging this special event. \nTuesday\, May 14 1pm to 2:15pm Pacific \nSIGNUP HERE \nDavid writes an almost daily Substack.  If you would like to see how “history rhymes”\, check out a recent Substack on a 1936 FDR speech that David feels is relevant to today’s chaos.    https://davidpepper.substack.com/p/fdr-in-1936 \nWe also highly recommend his recent book – Saving Democracy. \nMany of the great groups that David highlights in Saving Democracy are linked to on his website   https://savedemocracy.us/ \n 
URL:https://weallcalifornia.org/event/invigorating-local-democracy-with-david-pepper/
LOCATION:Zoom
END:VEVENT
BEGIN:VEVENT
DTSTART;TZID=America/Los_Angeles:20240515T160000
DTEND;TZID=America/Los_Angeles:20240515T170000
DTSTAMP:20260421T053139
CREATED:20240424T175928Z
LAST-MODIFIED:20240424T175928Z
UID:2700-1715788800-1715792400@weallcalifornia.org
SUMMARY:Working Group
DESCRIPTION:WEAll California is run by dedicated volunteers.  We meet weekly to discuss events\, do research on Wellbeing Economy efforts and discuss how to reach more people. \nIf you are interested in seeing what our Working Group meetings are like\, please email us at connect@weallcalifornia.org for more details.
URL:https://weallcalifornia.org/event/working-group/
LOCATION:Zoom
END:VEVENT
END:VCALENDAR