BEGIN:VCALENDAR
VERSION:2.0
PRODID:-//WEAll California - ECPv6.15.20//NONSGML v1.0//EN
CALSCALE:GREGORIAN
METHOD:PUBLISH
X-WR-CALNAME:WEAll California
X-ORIGINAL-URL:https://weallcalifornia.org
X-WR-CALDESC:Events for WEAll California
REFRESH-INTERVAL;VALUE=DURATION:PT1H
X-Robots-Tag:noindex
X-PUBLISHED-TTL:PT1H
BEGIN:VTIMEZONE
TZID:America/Los_Angeles
BEGIN:DAYLIGHT
TZOFFSETFROM:-0800
TZOFFSETTO:-0700
TZNAME:PDT
DTSTART:20230312T100000
END:DAYLIGHT
BEGIN:STANDARD
TZOFFSETFROM:-0700
TZOFFSETTO:-0800
TZNAME:PST
DTSTART:20231105T090000
END:STANDARD
BEGIN:DAYLIGHT
TZOFFSETFROM:-0800
TZOFFSETTO:-0700
TZNAME:PDT
DTSTART:20240310T100000
END:DAYLIGHT
BEGIN:STANDARD
TZOFFSETFROM:-0700
TZOFFSETTO:-0800
TZNAME:PST
DTSTART:20241103T090000
END:STANDARD
BEGIN:DAYLIGHT
TZOFFSETFROM:-0800
TZOFFSETTO:-0700
TZNAME:PDT
DTSTART:20250309T100000
END:DAYLIGHT
BEGIN:STANDARD
TZOFFSETFROM:-0700
TZOFFSETTO:-0800
TZNAME:PST
DTSTART:20251102T090000
END:STANDARD
END:VTIMEZONE
BEGIN:VEVENT
DTSTART;TZID=America/Los_Angeles:20240709T160000
DTEND;TZID=America/Los_Angeles:20240709T170000
DTSTAMP:20260421T021947
CREATED:20240528T182159Z
LAST-MODIFIED:20240607T161233Z
UID:2779-1720540800-1720544400@weallcalifornia.org
SUMMARY:How to Advance a Wellbeing Narrative Workshop
DESCRIPTION:Wellbeing approaches\, slowly gaining traction around the world\, set human and planetary wellbeing as the definition of progress\, centering policies\, budgets and other actions on that goal. Accelerating this work in cities and countries requires a broader narrative about progress—shifting from economic growth at all costs “to” wellbeing for all people. In this session\, Metropolitan Group and RAND will present key insights from work on advancing a wellbeing narrative\, what it will take\, and considerations in engaging diverse sectors. \nAnita Chanda of RAND Corporation and Jennifer Messenger of Metropolitan Group\, authors of How to Advance a Wellbeing Narrative join us for a one-hour interactive workshop to help us improve how we message to our communities. \nSIGNUP HERE \n  \n  \n 
URL:https://weallcalifornia.org/event/wellbeing-economy-narrative-workshop/
LOCATION:Zoom
END:VEVENT
BEGIN:VEVENT
DTSTART;TZID=America/Los_Angeles:20240723T160000
DTEND;TZID=America/Los_Angeles:20240723T170000
DTSTAMP:20260421T021947
CREATED:20240613T235658Z
LAST-MODIFIED:20240623T200948Z
UID:2790-1721750400-1721754000@weallcalifornia.org
SUMMARY:Discussion about Supreme Court and Inequality
DESCRIPTION:We invite you to come into a discussion with other WEAll CA members.  Our discussion events are not asking for long term commitment.  Just an opportunity to meet other people from a variety of disciplines who are working towards a more\, fair\, just and sustainable world. \nOur discussion topic this month is about the Supreme Court.  They have been in the news a lot and you may have some thoughts. \nIn this interactive session we will be alternating between one-on-one breakouts and the full group.  We will consider a few questions\, such as: \nWhat is the relationship between our Supreme Court and Inequality? \nGiven the way the Supreme Court operates\, what are realistic ways that we can have justices that support a fair\, just and sustainable world that works for all? \nIn what ways could our groups or organizations collaborate? \nLet’s discuss! \nSIGNUP HERE
URL:https://weallcalifornia.org/event/discussion-about-supreme-court-and-inequality/
LOCATION:Zoom
END:VEVENT
END:VCALENDAR