BEGIN:VCALENDAR
VERSION:2.0
PRODID:-//WEAll California - ECPv6.15.20//NONSGML v1.0//EN
CALSCALE:GREGORIAN
METHOD:PUBLISH
X-ORIGINAL-URL:https://weallcalifornia.org
X-WR-CALDESC:Events for WEAll California
REFRESH-INTERVAL;VALUE=DURATION:PT1H
X-Robots-Tag:noindex
X-PUBLISHED-TTL:PT1H
BEGIN:VTIMEZONE
TZID:America/Los_Angeles
BEGIN:DAYLIGHT
TZOFFSETFROM:-0800
TZOFFSETTO:-0700
TZNAME:PDT
DTSTART:20230312T100000
END:DAYLIGHT
BEGIN:STANDARD
TZOFFSETFROM:-0700
TZOFFSETTO:-0800
TZNAME:PST
DTSTART:20231105T090000
END:STANDARD
BEGIN:DAYLIGHT
TZOFFSETFROM:-0800
TZOFFSETTO:-0700
TZNAME:PDT
DTSTART:20240310T100000
END:DAYLIGHT
BEGIN:STANDARD
TZOFFSETFROM:-0700
TZOFFSETTO:-0800
TZNAME:PST
DTSTART:20241103T090000
END:STANDARD
BEGIN:DAYLIGHT
TZOFFSETFROM:-0800
TZOFFSETTO:-0700
TZNAME:PDT
DTSTART:20250309T100000
END:DAYLIGHT
BEGIN:STANDARD
TZOFFSETFROM:-0700
TZOFFSETTO:-0800
TZNAME:PST
DTSTART:20251102T090000
END:STANDARD
END:VTIMEZONE
BEGIN:VEVENT
DTSTART;TZID=America/Los_Angeles:20240808T160000
DTEND;TZID=America/Los_Angeles:20240808T170000
DTSTAMP:20260421T004456
CREATED:20240212T021305Z
LAST-MODIFIED:20240710T223704Z
UID:2611-1723132800-1723136400@weallcalifornia.org
SUMMARY:Nick Romeo - How to Build a just economy
DESCRIPTION:Journalist Nick Romeo has spent years covering the world’s most innovative economic and policy ideas for The New Yorker. Nick studied the successes and challenges of people working to build economies that are more equal\, just\, and livable and wrote The Alternative – How to Build a Just Economy. \nNick combines original\, in-depth reporting with expert analysis to help uncover what builds a Just Economy. \nAt this session\, Nick will share with us some of the myths that got us to this moment and his analysis of where we could put our attention. \n  \nJoin us Thursday\, August 8th at 4pm Pacific \nhttps://docs.google.com/forms/d/e/1FAIpQLSeNsgamzrILrzncdxzxvqjhoBssmgH5Z6WjN157P3iLZHhoPA/viewform \n  \nInterested in the book?   Please buy it at an independent bookstore like the one below: \nhttps://www.pegasusbookstore.com/book/9781541701595 \n  \nTo learn more about Nick’s work\, visit https://www.nickromeowriter.com/
URL:https://weallcalifornia.org/event/nick-romeo-how-to-build-a-just-economy/
LOCATION:Zoom
END:VEVENT
BEGIN:VEVENT
DTSTART;TZID=America/Los_Angeles:20240820T170000
DTEND;TZID=America/Los_Angeles:20240820T180000
DTSTAMP:20260421T004456
CREATED:20240725T235557Z
LAST-MODIFIED:20240812T225855Z
UID:2803-1724173200-1724176800@weallcalifornia.org
SUMMARY:Co-create a Wellbeing Economy Policy Platform
DESCRIPTION:Join us for our next Community Connect session where we will discuss “What are the 10 Top Policy Changes We Want to See”. \nWe will start with listening to each other’s policy priorities to see how we can rise up the top paths to a Wellbeing Economy. \nThis discussion is not about reaching full consensus or walking away with an official platform.   Our goal is to connect people and deepen the discussion about what people would like to see. \nThis conversation could lead to several other conversations such as upvoting what the community sees as the biggest leverage points\, look at language and messaging or perhaps even publishing a list of policy priorities. \nWe welcome you into discussion. \nTuesday August 20th 5 to 6pm Pacific \nhttps://docs.google.com/forms/d/e/1FAIpQLSeZLLCLB6UMigEuSoOM0r0kJOh5qaam9QIxKiCSOM5aHWum3A/viewform
URL:https://weallcalifornia.org/event/co-create-a-wellbeing-economy-policy-platform/
LOCATION:Zoom
END:VEVENT
END:VCALENDAR