BEGIN:VCALENDAR
VERSION:2.0
PRODID:-//WEAll California - ECPv6.15.20//NONSGML v1.0//EN
CALSCALE:GREGORIAN
METHOD:PUBLISH
X-WR-CALNAME:WEAll California
X-ORIGINAL-URL:https://weallcalifornia.org
X-WR-CALDESC:Events for WEAll California
REFRESH-INTERVAL;VALUE=DURATION:PT1H
X-Robots-Tag:noindex
X-PUBLISHED-TTL:PT1H
BEGIN:VTIMEZONE
TZID:America/Los_Angeles
BEGIN:DAYLIGHT
TZOFFSETFROM:-0800
TZOFFSETTO:-0700
TZNAME:PDT
DTSTART:20240310T100000
END:DAYLIGHT
BEGIN:STANDARD
TZOFFSETFROM:-0700
TZOFFSETTO:-0800
TZNAME:PST
DTSTART:20241103T090000
END:STANDARD
BEGIN:DAYLIGHT
TZOFFSETFROM:-0800
TZOFFSETTO:-0700
TZNAME:PDT
DTSTART:20250309T100000
END:DAYLIGHT
BEGIN:STANDARD
TZOFFSETFROM:-0700
TZOFFSETTO:-0800
TZNAME:PST
DTSTART:20251102T090000
END:STANDARD
BEGIN:DAYLIGHT
TZOFFSETFROM:-0800
TZOFFSETTO:-0700
TZNAME:PDT
DTSTART:20260308T100000
END:DAYLIGHT
BEGIN:STANDARD
TZOFFSETFROM:-0700
TZOFFSETTO:-0800
TZNAME:PST
DTSTART:20261101T090000
END:STANDARD
END:VTIMEZONE
BEGIN:VEVENT
DTSTART;TZID=America/Los_Angeles:20250114T160000
DTEND;TZID=America/Los_Angeles:20250114T170000
DTSTAMP:20260420T155351
CREATED:20241213T022356Z
LAST-MODIFIED:20241213T022356Z
UID:2828-1736870400-1736874000@weallcalifornia.org
SUMMARY:Monthly Community Connection
DESCRIPTION:Our last community connection of 2024 was enriching.  An attendee described it as cathartic. \nThe feedback we received is that people want a community to discuss how we create a society of wellbeing and to support each other through the emotional ripples of this work. \nEach month we will have at least one connection session.  The next question is finding times that work for our community.   We have scheduled two sessions on January 14th to see how these times work for you. \nIf you can’t make either and want to lobby us for a different day or time\, email us at connect @weallcalifornia.org. \nTuesday\, Jan 14 at either 10am or 4pm \nSign up here \n  \n 
URL:https://weallcalifornia.org/event/monthly-community-connection/
LOCATION:Zoom
END:VEVENT
BEGIN:VEVENT
DTSTART;TZID=America/Los_Angeles:20250115T160000
DTEND;TZID=America/Los_Angeles:20250115T170000
DTSTAMP:20260420T155351
CREATED:20241216T172126Z
LAST-MODIFIED:20241216T172126Z
UID:2832-1736956800-1736960400@weallcalifornia.org
SUMMARY:Working Group Meeting
DESCRIPTION:All of WEAll CA’s events\, research and advocacy is done by a team of volunteers. \nIf you are interested to learn more about what we have planned in 2025 or you would like to contribute to our efforts\, please reach out to connect@weallcalifornia.org \n 
URL:https://weallcalifornia.org/event/working-group-meeting/
LOCATION:Zoom
END:VEVENT
BEGIN:VEVENT
DTSTART;TZID=America/Los_Angeles:20250127T160000
DTEND;TZID=America/Los_Angeles:20250127T170000
DTSTAMP:20260420T155351
CREATED:20241225T201524Z
LAST-MODIFIED:20250108T201013Z
UID:2843-1737993600-1737997200@weallcalifornia.org
SUMMARY:Local Economy Success Story
DESCRIPTION:Just San Bernardino is creating a community-centered economy planned for the people and led by the people by uplifting community voices.  The project is four years old and has accomplished many impressive successes in community building\, incorporating arts into their economic plans and putting forward a series of economic mobility initiatives. \nCo-Directors Miriam Nieto and Carolina Sanchez will share details about their multi-prong approach to economic mobility and thriving community. \nIf you haven’t been to one of our learning sessions\, they are structured so that our attendees can ask questions.  This session is ideal for people leading local initiatives to see how other communities are achieving successful outcomes. \nIf you would like to learn more about Just SB in advance of our session\, you can look at their impressive People’s Plan report online. \nJoin us Monday\, Jan 27 at 4pm Pacific \nSignup FORM \n  \nIf you would like to receive the recording of this event\, please sign up.
URL:https://weallcalifornia.org/event/local-economy-success-story/
LOCATION:Zoom
END:VEVENT
BEGIN:VEVENT
DTSTART;TZID=America/Los_Angeles:20250128T160000
DTEND;TZID=America/Los_Angeles:20250128T170000
DTSTAMP:20260420T155351
CREATED:20241216T172941Z
LAST-MODIFIED:20250108T204131Z
UID:2836-1738080000-1738083600@weallcalifornia.org
SUMMARY:Narrative Workshop
DESCRIPTION:An important part of creating a society centered around Wellbeing is helping others to see the possibilities and to choose actions that move us collectively in that direction.  For all the progress we make\, it seems that we aren’t winning as much as we hoped. \nAs part of our series on Wellbeing messaging and narratives\, let’s dig into the other competing narratives and why they work so well. \nThis group discussion will be focused on four questions \n\nWhat are the existing narratives that undermine a Wellbeing Economy message\nWhat tactics are being used to perpetuate those narratives\nWhat should we learn from the success of these tactics\nWhat else would the group like to learn about messaging in 2025\n\nOur goal is to create a place where we can individually and collectively improve our ability to lead change\, be more persuasive and identify messaging that works. \nIf you missed our first workshop on how to craft a Wellbeing Narrative\, you can find the recording on our YouTube channel which also has a link to the original study the session was based on. \nWe are holding two sessions – one for morning people and one for afternoon people. \nYou can sign up for 9am or 4pm HERE
URL:https://weallcalifornia.org/event/narrative-workshop/
LOCATION:Zoom
END:VEVENT
END:VCALENDAR