BEGIN:VCALENDAR
VERSION:2.0
PRODID:-//WEAll California - ECPv6.15.20//NONSGML v1.0//EN
CALSCALE:GREGORIAN
METHOD:PUBLISH
X-ORIGINAL-URL:https://weallcalifornia.org
X-WR-CALDESC:Events for WEAll California
REFRESH-INTERVAL;VALUE=DURATION:PT1H
X-Robots-Tag:noindex
X-PUBLISHED-TTL:PT1H
BEGIN:VTIMEZONE
TZID:America/Los_Angeles
BEGIN:DAYLIGHT
TZOFFSETFROM:-0800
TZOFFSETTO:-0700
TZNAME:PDT
DTSTART:20240310T100000
END:DAYLIGHT
BEGIN:STANDARD
TZOFFSETFROM:-0700
TZOFFSETTO:-0800
TZNAME:PST
DTSTART:20241103T090000
END:STANDARD
BEGIN:DAYLIGHT
TZOFFSETFROM:-0800
TZOFFSETTO:-0700
TZNAME:PDT
DTSTART:20250309T100000
END:DAYLIGHT
BEGIN:STANDARD
TZOFFSETFROM:-0700
TZOFFSETTO:-0800
TZNAME:PST
DTSTART:20251102T090000
END:STANDARD
BEGIN:DAYLIGHT
TZOFFSETFROM:-0800
TZOFFSETTO:-0700
TZNAME:PDT
DTSTART:20260308T100000
END:DAYLIGHT
BEGIN:STANDARD
TZOFFSETFROM:-0700
TZOFFSETTO:-0800
TZNAME:PST
DTSTART:20261101T090000
END:STANDARD
END:VTIMEZONE
BEGIN:VEVENT
DTSTART;TZID=America/Los_Angeles:20250305T160000
DTEND;TZID=America/Los_Angeles:20250305T170000
DTSTAMP:20260420T122527
CREATED:20250220T003041Z
LAST-MODIFIED:20250220T003041Z
UID:2942-1741190400-1741194000@weallcalifornia.org
SUMMARY:Working Group Meeting - Join Us
DESCRIPTION:All of WEAll California events and programs are run by our volunteer working group. \nOur 2025 Strategy includes \n\nCommunity Connection Events\nNarrative Workshops\nPolicy Workshops\nSpeaker Series\n\nand more. \nTo learn more about how to participate\, please email us at connect@weallcalifornia.org
URL:https://weallcalifornia.org/event/volunteer-team-meeting-5-2/
LOCATION:Zoom
END:VEVENT
BEGIN:VEVENT
DTSTART;TZID=America/Los_Angeles:20250306T110000
DTEND;TZID=America/Los_Angeles:20250306T120000
DTSTAMP:20260420T122527
CREATED:20250116T005144Z
LAST-MODIFIED:20250116T223822Z
UID:2860-1741258800-1741262400@weallcalifornia.org
SUMMARY:Building Local Wealth by Converting Businesses to Employee Owned Models
DESCRIPTION:As we look for pathways to lift up more people\, there is one tool that many communities overlook – converting existing businesses into Employee Owned businesses. Project Equity is a national nonprofit that provides education and technical assistance in the field of employee ownership\, with specialized expertise in transitioning existing businesses to various models of employee ownership. \nAnnie Palacios of Project Equity is a leader in this field and will explain how to: \n\nFind local businesses that are looking to sell in the near future\nHow to educate business professionals about this emerging trend\nHow to prevent long standing businesses from closing down\nThe different type of support to convert local businesses\n\nAs with all of our learning sessions\, this will be an interactive discussion where you can ask Annie questions. \nSign up HERE \n  \n 
URL:https://weallcalifornia.org/event/converting-existing-businesses-into-employee-owned/
LOCATION:Zoom
END:VEVENT
BEGIN:VEVENT
DTSTART;TZID=America/Los_Angeles:20250306T183000
DTEND;TZID=America/Los_Angeles:20250306T193000
DTSTAMP:20260420T122527
CREATED:20250211T165554Z
LAST-MODIFIED:20250211T165554Z
UID:2862-1741285800-1741289400@weallcalifornia.org
SUMMARY:Book Club - The Serviceberry
DESCRIPTION:Robin Wall Kimmerer’s excellent new book – The Serviceberry: Abundance and Reciprocity in the Natural World \nThe book is beautifully written and feels so important to the discussion of envisioning and co-creating a healthier world. One of our main themes for 2025 is how do we create the language and stories that help more people believe such a world is viable. \nPlease join us as we discuss the book. \nSign up HERE \n  \nPlease consider buying it from Abe Books or a local\, independent bookseller. \nhttps://www.abebooks.com/servlet/BookDetailsPL?bi=32072116536 \n 
URL:https://weallcalifornia.org/event/book-club-the-serviceberry-2/
LOCATION:Zoom
END:VEVENT
BEGIN:VEVENT
DTSTART;TZID=America/Los_Angeles:20250311T160000
DTEND;TZID=America/Los_Angeles:20250311T170000
DTSTAMP:20260420T122527
CREATED:20250116T005401Z
LAST-MODIFIED:20250131T004827Z
UID:2863-1741708800-1741712400@weallcalifornia.org
SUMMARY:Monthly Community Connection March
DESCRIPTION:Our Community Connect sessions do not have planned topics.   We bring together activists\, artists\, community leaders and specialists to see what is needed and what can be created. \nIf you would like to be uplifted or are looking for deep conversation about our society\, we invite you in. \nWe will hold the community support sessions on the second Tuesday of each month. \nThis month\, we will again do 10am and 4pm Pacific.   Let us know if these times don’t work for you.  We track that. \nSign up HERE \n 
URL:https://weallcalifornia.org/event/monthly-community-connection-3/
LOCATION:Zoom
END:VEVENT
BEGIN:VEVENT
DTSTART;TZID=America/Los_Angeles:20250318T100000
DTEND;TZID=America/Los_Angeles:20250318T110000
DTSTAMP:20260420T122527
CREATED:20250219T210026Z
LAST-MODIFIED:20250303T174422Z
UID:2940-1742292000-1742295600@weallcalifornia.org
SUMMARY:Setting a Vision for the Future - Narrative Workshop
DESCRIPTION:Our theme for 2025 is how to build winning Narrative Strategies. \nThis month we are focused on clarifying our Vision of the beautiful future we would like to create together. \nOur morning session (10am) will be led by Debilyn Molineaux of AmericanFuture.us. Debilyn has been a leader in the civic engagement field and her new project is aimed at helping people articulate the future they would like to live into. \nOur afternoon session (4pm) we will do a slightly different process with the same aim. Helping people give voice to their desired future. \nWe will produce a final “Vision Statement” from all of our collective voices. This will go into the narrative map we have been constructing. \nThe workshop is open to everyone even if you have not participated in prior sessions. The map and meeting summaries will be included when you RSVP. \nWe have also booked several Narrative experts as part of this series: \n\nMarch 20 – Akira Nakahara of Imperative 21\nApril 10 – Jasmine Banks of UnKoch My Campus\nJune 12 – David Ballard of Groundwork Collaborative\nJoin us Tuesday\, March 18 at 10 am or 4pm Pacific\n\nSign Up HERE
URL:https://weallcalifornia.org/event/narrative-workshop-3/
LOCATION:Zoom
END:VEVENT
BEGIN:VEVENT
DTSTART;TZID=America/Los_Angeles:20250319T183000
DTEND;TZID=America/Los_Angeles:20250319T193000
DTSTAMP:20260420T122527
CREATED:20250220T003309Z
LAST-MODIFIED:20250220T003309Z
UID:2944-1742409000-1742412600@weallcalifornia.org
SUMMARY:Working Group Meeting - This sounds fun
DESCRIPTION:All of WEAll California events and programs are run by our volunteer working group. \nOur 2025 Strategy includes \n\nCommunity Connection Events\nNarrative Workshops\nPolicy Workshops\nSpeaker Series\n\nand more. \nTo learn more about how to participate\, please email us at connect@weallcalifornia.org
URL:https://weallcalifornia.org/event/volunteer-team-meeting-5-2-2/
LOCATION:Zoom
END:VEVENT
BEGIN:VEVENT
DTSTART;TZID=America/Los_Angeles:20250325T160000
DTEND;TZID=America/Los_Angeles:20250325T170000
DTSTAMP:20260420T122527
CREATED:20250204T183031Z
LAST-MODIFIED:20250313T214421Z
UID:2929-1742918400-1742922000@weallcalifornia.org
SUMMARY:Policy Discussion - The Future of Work
DESCRIPTION:In February\, we had invigorating discussions on Policy Platform strategies. (When you register\, you will get access to those notes). \nThis month\, we will begin our series of deep dives. Our first topic is “The Future of Work”. \nIf we are pursuing a long term strategy towards a society of health\, wellbeing and equity\, what is our ideal outcome for “jobs”? Shooting for fair wages\, benefits and working conditions should be the minimum. Let’s set the end goal even higher. \nIs a “jobs” guarantee the standard? What if automation eliminates whole sectors? Is Employee Ownership the standard? What other models exist? Or could exist? \nOur discussion will center around these questions. We invite you to bring examples of policies or practices that you admire. Our brainstorm and sharing is intended to shift our collective thinking about what is possible in a future wellbeing economy. \nYou are invited to contribute at either 10am Pacific or 4pm Pacific. \nSign up HERE \nOur updated Platform is here.
URL:https://weallcalifornia.org/event/policy-platform/
LOCATION:Zoom
END:VEVENT
BEGIN:VEVENT
DTSTART;TZID=America/Los_Angeles:20250326T110000
DTEND;TZID=America/Los_Angeles:20250326T120000
DTSTAMP:20260420T122527
CREATED:20250226T233016Z
LAST-MODIFIED:20250226T233301Z
UID:2957-1742986800-1742990400@weallcalifornia.org
SUMMARY:Education Working Group
DESCRIPTION:How can we work towards a Wellbeing Economy and Society? \nMany of us feel that we need to leverage Education from K-12 and Universities. \n\nBring together Teachers\, Student Engagement Officers and Student Leaders\nSeed Wellbeing Economy systemic thinking and concepts into curriculum across disciplines\nCreate experiential learning opportunities for students to better understand these concepts and develop leadership skills\n\nAt these meetings we highlight work that attendees are doing and share our work so that others can build upon it. \nTo join one or more of our meetings\, please fill out this short form HERE \nAfter you have joined\, you will receive access to our Repository and Resource List.
URL:https://weallcalifornia.org/event/university-connection-2/
LOCATION:Zoom
END:VEVENT
BEGIN:VEVENT
DTSTART;TZID=America/Los_Angeles:20250327T160000
DTEND;TZID=America/Los_Angeles:20250327T170000
DTSTAMP:20260420T122527
CREATED:20250319T145336Z
LAST-MODIFIED:20250319T145336Z
UID:2997-1743091200-1743094800@weallcalifornia.org
SUMMARY:Policy Deep Dive and Action Event - CA Utilities
DESCRIPTION:Reclaim our Power is building support for SB332 to begin to move us from corporate for-profit utilities (PG&E\, SC Edison) to local\, community owned utilities.  Reclaim Our Power has done extensive studies showing multiple benefits:  savings\, reduced risk and building community “power” (the other type). \nCalifornia Senate Bill 332 will be introduced in early April and WEAll California would like to help get organizations to sign on to their letter in support of the bill. \nWe invite you to a presentation on the details of the studies and benefits next Thursday\, March 27 at 4pm \nReclaim Our Power will answer any questions you have.  You can learn more at https://reclaimourpowerca.org/ \nOr if your organization would like to show support you can sign on to the letter here \nSign up for our event  HERE \n  \nIf you want to earn extra credit\, you can read David Dayen’s article on The Secret Society raising your Electricity Bills \nhttps://prospect.org/environment/2025-02-21-secret-society-raising-your-electricity-bills/
URL:https://weallcalifornia.org/event/policy-deep-dive-and-action-event-ca-utilities/
LOCATION:Zoom
END:VEVENT
END:VCALENDAR