BEGIN:VCALENDAR
VERSION:2.0
PRODID:-//WEAll California - ECPv6.15.20//NONSGML v1.0//EN
CALSCALE:GREGORIAN
METHOD:PUBLISH
X-ORIGINAL-URL:https://weallcalifornia.org
X-WR-CALDESC:Events for WEAll California
REFRESH-INTERVAL;VALUE=DURATION:PT1H
X-Robots-Tag:noindex
X-PUBLISHED-TTL:PT1H
BEGIN:VTIMEZONE
TZID:America/Los_Angeles
BEGIN:DAYLIGHT
TZOFFSETFROM:-0800
TZOFFSETTO:-0700
TZNAME:PDT
DTSTART:20240310T100000
END:DAYLIGHT
BEGIN:STANDARD
TZOFFSETFROM:-0700
TZOFFSETTO:-0800
TZNAME:PST
DTSTART:20241103T090000
END:STANDARD
BEGIN:DAYLIGHT
TZOFFSETFROM:-0800
TZOFFSETTO:-0700
TZNAME:PDT
DTSTART:20250309T100000
END:DAYLIGHT
BEGIN:STANDARD
TZOFFSETFROM:-0700
TZOFFSETTO:-0800
TZNAME:PST
DTSTART:20251102T090000
END:STANDARD
BEGIN:DAYLIGHT
TZOFFSETFROM:-0800
TZOFFSETTO:-0700
TZNAME:PDT
DTSTART:20260308T100000
END:DAYLIGHT
BEGIN:STANDARD
TZOFFSETFROM:-0700
TZOFFSETTO:-0800
TZNAME:PST
DTSTART:20261101T090000
END:STANDARD
END:VTIMEZONE
BEGIN:VEVENT
DTSTART;TZID=America/Los_Angeles:20250401T140000
DTEND;TZID=America/Los_Angeles:20250401T150000
DTSTAMP:20260419T233835
CREATED:20250313T213238Z
LAST-MODIFIED:20250313T213238Z
UID:2986-1743516000-1743519600@weallcalifornia.org
SUMMARY:Local Leaders Monthly Forum
DESCRIPTION:We are creating an “invite” only monthly meeting for people who are working to create Wellbeing Economies in their local community. \nThe idea behind making it invite only\, is to create a space that will connect you with other change-makers working on Wellbeing Economy initiatives across California. We will exchange ideas and discuss challenges specific to growing local wellbeing economy initiatives in a local area. \nOur first meeting will be Tuesday\, April 1 from 2 to 3pm with a special focus on addressing the obstacles that our Wellbeing Economy projects face. Through an open discussion and co-creation session\, we’ll explore shared challenges and potential solutions to support each other’s work. \nThe group will meet for an hour once a month so that they can get to know each other and the projects to provide continuity and continuing support. \nIf you think this could be a good fit for you\, please fill out this short form \n 
URL:https://weallcalifornia.org/event/local-leaders-monthly-forum/
LOCATION:Zoom
END:VEVENT
BEGIN:VEVENT
DTSTART;TZID=America/Los_Angeles:20250402T160000
DTEND;TZID=America/Los_Angeles:20250402T170000
DTSTAMP:20260419T233835
CREATED:20250313T215812Z
LAST-MODIFIED:20250313T215812Z
UID:2992-1743609600-1743613200@weallcalifornia.org
SUMMARY:Volunteer Working Group
DESCRIPTION:All of WEAll California events and programs are run by our volunteer working group. \nOur 2025 Strategy includes \n\nCommunity Connection Events\nNarrative Workshops\nPolicy Workshops\nSpeaker Series\n\nand more. \nTo learn more about how to participate\, please email us at connect@weallcalifornia.org
URL:https://weallcalifornia.org/event/volunteer-team-meeting-5-2-2-2/
LOCATION:Zoom
END:VEVENT
BEGIN:VEVENT
DTSTART;TZID=America/Los_Angeles:20250408T160000
DTEND;TZID=America/Los_Angeles:20250408T170000
DTSTAMP:20260419T233835
CREATED:20250226T173520Z
LAST-MODIFIED:20250226T173520Z
UID:2950-1744128000-1744131600@weallcalifornia.org
SUMMARY:Monthly Community Connection
DESCRIPTION:We create collisions!   The good kind. \nA space where you can connect to others pushing to co-create a “Wellbeing Economy”.    Come for support\, to vent or wonder out loud if that crazy idea you had could change everything. \nWe will hold the community connect sessions on the second Tuesday of each month at 10am (for the early birds) and again at 4pm (for the people who need time for the coffee to activate). \nIf you come to our Community Connection\, you may never need coffee again.  Bold Claim! \nSign up HERE \n  \n  \n  \n 
URL:https://weallcalifornia.org/event/monthly-community-connection-2-2/
LOCATION:Zoom
END:VEVENT
BEGIN:VEVENT
DTSTART;TZID=America/Los_Angeles:20250410T110000
DTEND;TZID=America/Los_Angeles:20250410T120000
DTSTAMP:20260419T233835
CREATED:20250226T171431Z
LAST-MODIFIED:20250313T215008Z
UID:2948-1744282800-1744286400@weallcalifornia.org
SUMMARY:Narrative Expert - Jasmine Banks
DESCRIPTION:Storytelling and Communication is important to the art of Movement Building.  Continuing our 2025 theme of learning from experts and doing exploratory workshops\, we are excited to welcome Jasmine Banks for a Q&A session on April 10. \nJasmine has been successful across multiple organizations\, platforms and communication types.  Some of her projects include Generation Common Good\, UnKoch My Campus and the successful podcast Parenting Is Political since 2010.  Jasmine has a substantial online following and led a campaign that had over 2 million views in the first 24 hours. \nThursday April 10th at 11am Pacific \nSign up HERE \n 
URL:https://weallcalifornia.org/event/using-social-media-to-organize/
LOCATION:Zoom
END:VEVENT
BEGIN:VEVENT
DTSTART;TZID=America/Los_Angeles:20250415T100000
DTEND;TZID=America/Los_Angeles:20250415T110000
DTSTAMP:20260419T233835
CREATED:20250319T175548Z
LAST-MODIFIED:20250319T175548Z
UID:2999-1744711200-1744714800@weallcalifornia.org
SUMMARY:Narrative and Messaging Workshop - What is our Theory of Change
DESCRIPTION:In April\, we will discuss what Actions we need to take and what is our Theory of Change to promote our future vision of a Wellbeing Economy \nThis will build off the work we did in the last 3 sessions: \n\nJan – Why are Narratives that undermine Wellbeing Economy messaging so effective\nFeb – What audiences do we want to reach\, and What messages do we want to promote\nMar – Setting our Future Vision\n\nWe have built a 2 page Narrative Map to summarize all of the previous work for our own clarity and to make easy for those who are joining us for the first time to participate.  The map includes links to the more detailed version of those sessions. \n2 sessions – 10am and 4pm \nSign Up HERE \n 
URL:https://weallcalifornia.org/event/narrative-and-messaging-workshop-what-is-our-theory-of-change/
LOCATION:Zoom
END:VEVENT
BEGIN:VEVENT
DTSTART;TZID=America/Los_Angeles:20250423T110000
DTEND;TZID=America/Los_Angeles:20250423T120000
DTSTAMP:20260419T233835
CREATED:20250401T183349Z
LAST-MODIFIED:20250401T183349Z
UID:3013-1745406000-1745409600@weallcalifornia.org
SUMMARY:Wellbeing Economics in Education Working Group
DESCRIPTION:How can we work towards a Wellbeing Economy and Society? \nMany of us feel that we need to leverage Education from K-12 and Universities. \n\nBring together Teachers\, Student Engagement Officers and Student Leaders\nSeed Wellbeing Economy systemic thinking and concepts into curriculum across disciplines\nCreate experiential learning opportunities for students to better understand these concepts and develop leadership skills\n\nAt these meetings we highlight work that attendees are doing and share our work so that others can build upon it. \nTo join one or more of our meetings\, please fill out this short form HERE \nAfter you have joined\, you will receive access to our Repository and Resource List.
URL:https://weallcalifornia.org/event/university-connection-2-2/
LOCATION:Zoom
END:VEVENT
BEGIN:VEVENT
DTSTART;TZID=America/Los_Angeles:20250424T100000
DTEND;TZID=America/Los_Angeles:20250424T110000
DTSTAMP:20260419T233835
CREATED:20250313T214027Z
LAST-MODIFIED:20250313T214027Z
UID:2988-1745488800-1745492400@weallcalifornia.org
SUMMARY:Local Spotlight – Complete Neighborhoods in Hayward
DESCRIPTION:When you imagine your ideal future\, what does your neighborhood look like?   Is it green?  Are the people friendly?   Do you have to struggle through lots of traffic to get your errands done? \nThe Complete Neighborhoods movement is appealing because almost everything you need is within walking distance and the community has the feel of a village where people support each other and want to spend time with each other. \nDidacus Ramos has been a community leader in Hayward for 20 years\, working on affordable housing\, public banking and many other civic projects. \nHis latest initiative\, Complete Neighborhoods\, is a part of the Strong Towns project. \nJoin us on Thursday\, April 24 at 10am to learn more about this project and to inquire how you can replicate some of this in your community. \nSign up HERE \n 
URL:https://weallcalifornia.org/event/local-spotlight-complete-neighborhoods-in-hayward/
LOCATION:Zoom
END:VEVENT
END:VCALENDAR