BEGIN:VCALENDAR
VERSION:2.0
PRODID:-//WEAll California - ECPv6.15.20//NONSGML v1.0//EN
CALSCALE:GREGORIAN
METHOD:PUBLISH
X-ORIGINAL-URL:https://weallcalifornia.org
X-WR-CALDESC:Events for WEAll California
REFRESH-INTERVAL;VALUE=DURATION:PT1H
X-Robots-Tag:noindex
X-PUBLISHED-TTL:PT1H
BEGIN:VTIMEZONE
TZID:America/Los_Angeles
BEGIN:DAYLIGHT
TZOFFSETFROM:-0800
TZOFFSETTO:-0700
TZNAME:PDT
DTSTART:20240310T100000
END:DAYLIGHT
BEGIN:STANDARD
TZOFFSETFROM:-0700
TZOFFSETTO:-0800
TZNAME:PST
DTSTART:20241103T090000
END:STANDARD
BEGIN:DAYLIGHT
TZOFFSETFROM:-0800
TZOFFSETTO:-0700
TZNAME:PDT
DTSTART:20250309T100000
END:DAYLIGHT
BEGIN:STANDARD
TZOFFSETFROM:-0700
TZOFFSETTO:-0800
TZNAME:PST
DTSTART:20251102T090000
END:STANDARD
BEGIN:DAYLIGHT
TZOFFSETFROM:-0800
TZOFFSETTO:-0700
TZNAME:PDT
DTSTART:20260308T100000
END:DAYLIGHT
BEGIN:STANDARD
TZOFFSETFROM:-0700
TZOFFSETTO:-0800
TZNAME:PST
DTSTART:20261101T090000
END:STANDARD
END:VTIMEZONE
BEGIN:VEVENT
DTSTART;TZID=America/Los_Angeles:20250604T160000
DTEND;TZID=America/Los_Angeles:20250604T170000
DTSTAMP:20260420T071034
CREATED:20250401T183626Z
LAST-MODIFIED:20250529T164805Z
UID:3015-1749052800-1749056400@weallcalifornia.org
SUMMARY:Volunteer for WEAll California
DESCRIPTION:All of WEAll California events and programs are run by our volunteer working group. \nAre you good at Social Media\, Web Design\, Research?  We need your help. \nOur 2025 Strategy includes \n\nCommunity Connection Events\nNarrative Workshops\nPolicy Workshops\nSpeaker Series\n\nand more. \nTo learn more about how to participate\, please email us at connect@weallcalifornia.org
URL:https://weallcalifornia.org/event/volunteer-team-meeting-5-2-2-2-2/
LOCATION:Zoom
END:VEVENT
BEGIN:VEVENT
DTSTART;TZID=America/Los_Angeles:20250610T160000
DTEND;TZID=America/Los_Angeles:20250610T170000
DTSTAMP:20260420T071034
CREATED:20250529T165035Z
LAST-MODIFIED:20250529T165035Z
UID:3079-1749571200-1749574800@weallcalifornia.org
SUMMARY:Community Connect
DESCRIPTION:A welcoming space to meet new and existing members.  In addition to making new connections\, we discuss a variety of topics ranging from how to cope with national issues and challenges in our work or where we find humor and awe. \nSign up HERE for our June Connect
URL:https://weallcalifornia.org/event/community-connect-2/
LOCATION:Zoom
END:VEVENT
BEGIN:VEVENT
DTSTART;TZID=America/Los_Angeles:20250612T120000
DTEND;TZID=America/Los_Angeles:20250612T130000
DTSTAMP:20260420T071034
CREATED:20250529T172938Z
LAST-MODIFIED:20250529T172938Z
UID:3085-1749729600-1749733200@weallcalifornia.org
SUMMARY:Good Gov LA
DESCRIPTION:Good Gov LA is a new project to bring together Healthy Democracy groups across Los Angeles for a chance to connect\, create opportunities for partnership and build a supportive network. \nNot all of the groups need to be fully aligned and many have special focuses like election reforms\, ethics and accountability or public engagement in democracy. \nThe group holds monthly zoom meetings the second Thursday of each month at 12pm Pacific and occasional in person networking events. \nTo join a meeting or learn more\, please fill out this FORM. \nWEAll California is a partner in this venture.  Healthy Democracy and Collaboration are essential pillars to a wellbeing future.
URL:https://weallcalifornia.org/event/good-gov-la-2/
LOCATION:Zoom
END:VEVENT
BEGIN:VEVENT
DTSTART;TZID=America/Los_Angeles:20250617T160000
DTEND;TZID=America/Los_Angeles:20250617T170000
DTSTAMP:20260420T071034
CREATED:20250529T165338Z
LAST-MODIFIED:20250529T165338Z
UID:3081-1750176000-1750179600@weallcalifornia.org
SUMMARY:Local Wellbeing Economy Guide Launch Celebration
DESCRIPTION:We’re excited to announce the release of our Local Wellbeing Economy Guide (v1.0) — a new resource developed by WEAll California volunteer team to help communities take tangible steps toward building a wellbeing economy. \nFrom local business strategies to community engagement practices\, the guide offers practical tools\, inspiring ideas\, and real-world examples to spark action at the local level. \nWe’d love to hear your thoughts! What do you like best? What’s missing? How might we improve future versions? Let’s co-create a guide and a movement that truly reflects our shared vision of thriving people and planet. \nGot event ideas? We’re also planning events to celebrate the guide and showcase the many ways people are putting wellbeing economy principles into action. We welcome your ideas! \nIn solidarity\, \nThe WEAll California Volunteer Team \nSign up HERE \nExplore the guide here: \nhttps://weallcalifornia.org/engage/local-wellbeing-economy-guide/ \n 
URL:https://weallcalifornia.org/event/local-wellbeing-economy-guide-launch-celebration/
LOCATION:Zoom
END:VEVENT
BEGIN:VEVENT
DTSTART;TZID=America/Los_Angeles:20250620T090000
DTEND;TZID=America/Los_Angeles:20250620T100000
DTSTAMP:20260420T071034
CREATED:20250609T175612Z
LAST-MODIFIED:20250609T175612Z
UID:3109-1750410000-1750413600@weallcalifornia.org
SUMMARY:Planning Meeting
DESCRIPTION:All of WEAll California events and programs are run by our volunteer working group. \nIf you would like to help us with our current and future projects\, this is the place to be. \nWe meet every two weeks. \nOur projects under consideration right now are: \n\nLeveraging the 2026 Governors Race\nPlanning In Person Events\nOrganizing a Wellbeing Economy Conference for 2026\nHow to improve our social media game\n\nTo learn more about how to participate\, please email us at connect@weallcalifornia.org
URL:https://weallcalifornia.org/event/volunteer-team-meeting-5-2-2-2-3/
LOCATION:Zoom
END:VEVENT
BEGIN:VEVENT
DTSTART;TZID=America/Los_Angeles:20250624T160000
DTEND;TZID=America/Los_Angeles:20250624T170000
DTSTAMP:20260420T071034
CREATED:20250531T174111Z
LAST-MODIFIED:20250531T175631Z
UID:3099-1750780800-1750784400@weallcalifornia.org
SUMMARY:Narrative Workshop - Leveraging the Governor's Race
DESCRIPTION:2026 will be the California Governor’s race.  How can we leverage some of the tools being shared by the experts presenting to WEAll CA this year?   What sort of message do we want to send?  What tools and tactics can we utilize? \nThis will be an interactive group session where we collectively examine options available to us. \nHow do we build a collective strategy to get more Californians thinking a Wellbeing Economy is in reach?! \nJoin us in setting the action plan \nTuesday\, June 24th at 4pm.  Sign up HERE \n  \nYou may want to check out our last 2 Narrative training sessions \n\nAkira Nakahara\, Imperative 21 \nJennifer Messenger\, Met Group and Anita Chandra\, RAND\n\nOr sign up for one of our 3 upcoming Narrative Learning sessions: \n\nJune 26 – Jasmine Banks\, UnKoch My Campus \nJuly 7 – Frances Rayner\, WEAll Global Communications\nJuly 10 – David Ballard\, Groundwork Collaborative
URL:https://weallcalifornia.org/event/narrative-workshop-leveraging-the-governors-race/
LOCATION:Zoom
END:VEVENT
BEGIN:VEVENT
DTSTART;TZID=America/Los_Angeles:20250625T080000
DTEND;TZID=America/Los_Angeles:20250625T170000
DTSTAMP:20260420T071034
CREATED:20250529T180429Z
LAST-MODIFIED:20250529T180429Z
UID:3089-1750838400-1750870800@weallcalifornia.org
SUMMARY:Green Economy Conference
DESCRIPTION:Our partners at Community 3.0 are hosting the Green Economy Conference at the LA Arboretum on June 25-26th. \nConscious investing meets exponential solutions\, indigenous wisdom\, empowering underserved communities\, and sharing initiatives for solving our most pressing environmental challenges. \n\nDay 1: Green Economy Challenges & Solutions\, Exclusive Matching Event & Planetary Pitch Session\nDay 2: Our Collective Dream and Collaborative Action\, Extreme Connectivity asset to need matching\n\nAs part of our #REBUILDLAGREEN initiative\, we have decided to absorb all ticketing and processing fees on Eventbrite\, recognizing the challenges faced by those impacted by the LA fires. \nLearn more and register at: \nhttps://community30x.com/gec-2025
URL:https://weallcalifornia.org/event/green-economy-conference/
END:VEVENT
BEGIN:VEVENT
DTSTART;TZID=America/Los_Angeles:20250625T110000
DTEND;TZID=America/Los_Angeles:20250625T120000
DTSTAMP:20260420T071034
CREATED:20250529T165936Z
LAST-MODIFIED:20250529T165936Z
UID:3083-1750849200-1750852800@weallcalifornia.org
SUMMARY:Wellbeing Economics in Education Working Group
DESCRIPTION:How can we work towards a Wellbeing Economy and Society? \nMany of us feel that we need to leverage Education from K-12 and Universities. \n\nBring together Teachers\, Student Engagement Officers and Student Leaders\nSeed Wellbeing Economy systemic thinking and concepts into curriculum across disciplines\nCreate experiential learning opportunities for students to better understand these concepts and develop leadership skills\n\nAt these meetings we highlight work that attendees are doing and share our work so that others can build upon it. \nTo join our June meeting please signup HERE \nAfter you have joined\, you will receive access to our past meeting notes and Resource List.
URL:https://weallcalifornia.org/event/university-connection-2-2-2-2/
LOCATION:Zoom
END:VEVENT
BEGIN:VEVENT
DTSTART;TZID=America/Los_Angeles:20250626T130000
DTEND;TZID=America/Los_Angeles:20250626T140000
DTSTAMP:20260420T071034
CREATED:20250305T005555Z
LAST-MODIFIED:20250416T223513Z
UID:2977-1750942800-1750946400@weallcalifornia.org
SUMMARY:Narrative Expert Series - Jasmine Banks
DESCRIPTION:Storytelling and Communication is important to the art of Movement Building.  Continuing our 2025 theme of learning from experts and doing exploratory workshops\, we are excited to welcome Jasmine Banks for a Q&A session. \nJasmine has been successful across multiple organizations\, platforms and communication types.  Some of her projects include Generation Common Good\, UnKoch My Campus and the successful podcast Parenting Is Political since 2010.  Jasmine has a substantial online following and led a campaign that had over 2 million views in the first 24 hours. \nSign up HERE \n 
URL:https://weallcalifornia.org/event/jasmine-banks/
LOCATION:Zoom
END:VEVENT
END:VCALENDAR