BEGIN:VCALENDAR
VERSION:2.0
PRODID:-//WEAll California - ECPv6.15.20//NONSGML v1.0//EN
CALSCALE:GREGORIAN
METHOD:PUBLISH
X-WR-CALNAME:WEAll California
X-ORIGINAL-URL:https://weallcalifornia.org
X-WR-CALDESC:Events for WEAll California
REFRESH-INTERVAL;VALUE=DURATION:PT1H
X-Robots-Tag:noindex
X-PUBLISHED-TTL:PT1H
BEGIN:VTIMEZONE
TZID:America/Los_Angeles
BEGIN:DAYLIGHT
TZOFFSETFROM:-0800
TZOFFSETTO:-0700
TZNAME:PDT
DTSTART:20240310T100000
END:DAYLIGHT
BEGIN:STANDARD
TZOFFSETFROM:-0700
TZOFFSETTO:-0800
TZNAME:PST
DTSTART:20241103T090000
END:STANDARD
BEGIN:DAYLIGHT
TZOFFSETFROM:-0800
TZOFFSETTO:-0700
TZNAME:PDT
DTSTART:20250309T100000
END:DAYLIGHT
BEGIN:STANDARD
TZOFFSETFROM:-0700
TZOFFSETTO:-0800
TZNAME:PST
DTSTART:20251102T090000
END:STANDARD
BEGIN:DAYLIGHT
TZOFFSETFROM:-0800
TZOFFSETTO:-0700
TZNAME:PDT
DTSTART:20260308T100000
END:DAYLIGHT
BEGIN:STANDARD
TZOFFSETFROM:-0700
TZOFFSETTO:-0800
TZNAME:PST
DTSTART:20261101T090000
END:STANDARD
END:VTIMEZONE
BEGIN:VEVENT
DTSTART;TZID=America/Los_Angeles:20250805T160000
DTEND;TZID=America/Los_Angeles:20250805T170000
DTSTAMP:20260420T033749
CREATED:20250529T235458Z
LAST-MODIFIED:20250529T235458Z
UID:3091-1754409600-1754413200@weallcalifornia.org
SUMMARY:Presentation from New Zealand Hub
DESCRIPTION:WEAll Aotearoa New Zealand is one of WEAll’s first Hubs and they are making great strides towards a Wellbeing Economy. On Tuesday\, August 5 at 4pm Pacific\, we will hear from our friend Gareth Hughes\, the director of the hub. \nGareth is an author\, political commentator and served for a decade as a Member of the New Zealand Parliament. \nHe will discuss their work towards redesigning the economy around the wellbeing of people and planet including: \n\nNew Zealand’s Wellbeing Budgets\nLeadership coming from Māori indigenous economic approaches\nWellbeing Economy policies for towns\, cities and regions\nWEAll’s work for a Future Generations Act Campaign and Community Wealth Building\n\nAs always\, there will be plenty of room for questions\, so we can dive deep as a community. \n  \nSign up HERE
URL:https://weallcalifornia.org/event/presentation-from-new-zealand-hub/
LOCATION:Zoom
END:VEVENT
BEGIN:VEVENT
DTSTART;TZID=America/Los_Angeles:20250806T090000
DTEND;TZID=America/Los_Angeles:20250806T100000
DTSTAMP:20260420T033749
CREATED:20250724T191343Z
LAST-MODIFIED:20250724T191343Z
UID:3163-1754470800-1754474400@weallcalifornia.org
SUMMARY:Book Club - Maria Ressa - How to Stand Up to A Dictator
DESCRIPTION:Maria is an accomplished journalist\, has run international news bureaus and is the winner of the Nobel Peace Prize.    Her book is part autobiography and her experience with 2 different dictators in the Phillipines. \nIn our third meeting on this book\, we will explore Chapters 9 & 10.   Feel free to join us if you didn’t come to the prior meetings. \nMaria is a fabulous writer\, so I think you will enjoy the book and her focus on Values. \nSIGN UP HERE \nHere is a link to the book on Amazon for reference\, but I encourage you to find a non Amazon way to purchase or borrow it. \nhttps://www.amazon.com/How-Stand-Up-Dictator-Future/dp/0063257521 \nThis event is in partnership with US Values Alliance
URL:https://weallcalifornia.org/event/book-club-maria-ressa-how-to-stand-up-to-a-dictator-2/
LOCATION:Zoom
END:VEVENT
BEGIN:VEVENT
DTSTART;TZID=America/Los_Angeles:20250806T160000
DTEND;TZID=America/Los_Angeles:20250806T170000
DTSTAMP:20260420T033749
CREATED:20250714T200049Z
LAST-MODIFIED:20250714T200049Z
UID:3152-1754496000-1754499600@weallcalifornia.org
SUMMARY:Volunteer Team
DESCRIPTION:Curious who is making WEAll CA’s program and events?   Want to join our merry band? \nWe meet every two weeks. \nOur projects under consideration right now are: \n\nLeveraging the 2026 Governors Race\nPlanning In Person Events\nOrganizing a Wellbeing Economy Conference for 2026\nHow to improve our social media game\n\nTo learn more about how to participate\, please email us at connect@weallcalifornia.org
URL:https://weallcalifornia.org/event/volunteer-team-meeting-5-2-2-2-3-2-2-2/
LOCATION:Zoom
END:VEVENT
BEGIN:VEVENT
DTSTART;TZID=America/Los_Angeles:20250807T090000
DTEND;TZID=America/Los_Angeles:20250807T100000
DTSTAMP:20260420T033749
CREATED:20250530T193428Z
LAST-MODIFIED:20250530T193428Z
UID:3095-1754557200-1754560800@weallcalifornia.org
SUMMARY:Narrative Series - Tested ways to build support for Wellbeing Economies
DESCRIPTION:On Thursday\, August 9th at 9am Pacific\, we will be joined by Frances Rayner – Communications and Narratives Co-Lead from the global Wellbeing Economy Alliance to share some key insights from recent communications research. \nFrances looked at more than 20 studies done on what messaging is most effective to help people think about the economy as something we can redesign in the name of equity and the environment. In this session she’ll share seven key takeaways you can implement in your work. \nFrances came to the Global Team after working with the WEAll Scotland team to put the Wellbeing Economy on the national agenda. Prior to that she helped a range of non-profit organisations in Scotland secure policy changes on climate and income inequality through public campaigns. \nJoin us on Thursday\, August 9 at 9am Pacific \nSign up HERE \n 
URL:https://weallcalifornia.org/event/narrative-series-tested-ways-to-build-support-for-wellbeing-economies/
LOCATION:Zoom
END:VEVENT
BEGIN:VEVENT
DTSTART;TZID=America/Los_Angeles:20250814T120000
DTEND;TZID=America/Los_Angeles:20250814T130000
DTSTAMP:20260420T033749
CREATED:20250714T195648Z
LAST-MODIFIED:20250714T195648Z
UID:3154-1755172800-1755176400@weallcalifornia.org
SUMMARY:Good Gov LA August
DESCRIPTION:Good Gov LA brings together groups focused on healthy democracy across Los Angeles for a chance to connect\, create opportunities for partnership and build a supportive network. \nNot all of the groups need to be fully aligned and many have special focuses like election reforms\, ethics and accountability or public engagement in democracy. \nTopics have included- \n\nCharter Reform\nCivic Assemblies\nImmigration Raids\nVoter Turnout\nLegislative Alliances to create victories\n\nThe group holds monthly zoom meetings the second Thursday of each month at 12pm Pacific and occasional in person networking events. \nTo join a meeting or learn more\, please fill out this FORM. \nWEAll California is a partner in this venture.  Healthy Democracy and Collaboration are essential pillars to a wellbeing future.
URL:https://weallcalifornia.org/event/good-gov-la-2-2-2/
LOCATION:Zoom
END:VEVENT
BEGIN:VEVENT
DTSTART;TZID=America/Los_Angeles:20250819T100000
DTEND;TZID=America/Los_Angeles:20250819T110000
DTSTAMP:20260420T033749
CREATED:20250627T173500Z
LAST-MODIFIED:20250627T173500Z
UID:3136-1755597600-1755601200@weallcalifornia.org
SUMMARY:Patriotic Millionaires' New Tax Proposal
DESCRIPTION:Patriotic Millionaires is a group of millionaires demanding a political economy that works for everyone in America\, not just the wealthy. \nTheir motto is ‘Tax the Rich\, Pay the People\, Spread the Power’. The group believes that a healthy society requires higher wages and less inequality. \nOn Tuesday\, August 19th\, we will be joined by Morris Pearl\, the Board Chair of Patriotic Millionaires. Morris will walk us through their new proposal called America 250: The Money Agenda. This plan includes 4 tax bills that they would like to see turned into law and the work they do to get this plan passed. \nPatriotic Millionaires also has a local democracy program called The Great Economy Project. The program engages people locally to advocate for fair wages and tax reform. The pilot program launched in Whiteville\, North Carolina in 2022. Today\, they have active programs in North Carolina and Wisconsin. Economic Equality Now!\, the group in Wisconsin\, is actively organizing at the local\, state and federal level. \nJoin us Tuesday Aug 19 at 10am Pacific\nSign up HERE \nLearn more about the group and the America 250 plan at \nHome \n \n 
URL:https://weallcalifornia.org/event/patriotic-millionaires-new-tax-proposal/
LOCATION:Zoom
END:VEVENT
BEGIN:VEVENT
DTSTART;TZID=America/Los_Angeles:20250821T130000
DTEND;TZID=America/Los_Angeles:20250821T140000
DTSTAMP:20260420T033749
CREATED:20250714T195822Z
LAST-MODIFIED:20250714T195822Z
UID:3153-1755781200-1755784800@weallcalifornia.org
SUMMARY:Local Leaders Monthly Forum
DESCRIPTION:This is a recurring monthly meeting for people involved in creating Wellbeing Economies in their local community. \nWe discuss challenges specific to growing local wellbeing economy initiatives in a local area and share solutions\, feedback and support. \nThis Forum requires an application to join to make sure it is a good fit.  If you think this could be a good fit for you\, please fill out this short form \n 
URL:https://weallcalifornia.org/event/local-leaders-monthly-forum-2-2-2/
LOCATION:Zoom
END:VEVENT
BEGIN:VEVENT
DTSTART;TZID=America/Los_Angeles:20250827T110000
DTEND;TZID=America/Los_Angeles:20250827T120000
DTSTAMP:20260420T033749
CREATED:20250723T194029Z
LAST-MODIFIED:20250723T194029Z
UID:3161-1756292400-1756296000@weallcalifornia.org
SUMMARY:Wellbeing Economics in Education Working Group
DESCRIPTION:How can we work towards a Wellbeing Economy and Society? \nMany of us feel that we need to leverage Education from K-12 and Universities. \n\nBring together Teachers\, Student Engagement Officers and Student Leaders\nSeed Wellbeing Economy systemic thinking and concepts into curriculum across disciplines\nCreate experiential learning opportunities for students to better understand these concepts and develop leadership skills\n\nAt these meetings we highlight work that attendees are doing and share our work so that others can build upon it. \nTo join our August meeting please signup HERE \nAfter you have joined\, you will receive access to our past meeting notes and Resource List.
URL:https://weallcalifornia.org/event/university-connection-2-2-2-2-2-2/
LOCATION:Zoom
END:VEVENT
BEGIN:VEVENT
DTSTART;TZID=America/Los_Angeles:20250828T160000
DTEND;TZID=America/Los_Angeles:20250828T190000
DTSTAMP:20260420T033749
CREATED:20250609T191840Z
LAST-MODIFIED:20250806T215912Z
UID:3115-1756396800-1756407600@weallcalifornia.org
SUMMARY:WEAll CA - In Person - Santa Barbara
DESCRIPTION:Our 5th in-person Wellbeing Economy event will take in Santa Barbara on Thursday\, August 28th. \nOur first 4 events went well. Each had gathering it’s own local flair and different conversations emerged. \nOur Santa Barbara gathering will be from 4 to 7pm. Location will be announced a few days prior as we get a size of the gathering. \nIf you are in the Central Coast and interested how we collaborate across sectors\, we hope you will join us. \nYou can sign up HERE to be notified as details emerge
URL:https://weallcalifornia.org/event/weall-ca-in-person-santa-barbara/
END:VEVENT
END:VCALENDAR