BEGIN:VCALENDAR
VERSION:2.0
PRODID:-//WEAll California - ECPv6.15.20//NONSGML v1.0//EN
CALSCALE:GREGORIAN
METHOD:PUBLISH
X-WR-CALNAME:WEAll California
X-ORIGINAL-URL:https://weallcalifornia.org
X-WR-CALDESC:Events for WEAll California
REFRESH-INTERVAL;VALUE=DURATION:PT1H
X-Robots-Tag:noindex
X-PUBLISHED-TTL:PT1H
BEGIN:VTIMEZONE
TZID:America/Los_Angeles
BEGIN:DAYLIGHT
TZOFFSETFROM:-0800
TZOFFSETTO:-0700
TZNAME:PDT
DTSTART:20240310T100000
END:DAYLIGHT
BEGIN:STANDARD
TZOFFSETFROM:-0700
TZOFFSETTO:-0800
TZNAME:PST
DTSTART:20241103T090000
END:STANDARD
BEGIN:DAYLIGHT
TZOFFSETFROM:-0800
TZOFFSETTO:-0700
TZNAME:PDT
DTSTART:20250309T100000
END:DAYLIGHT
BEGIN:STANDARD
TZOFFSETFROM:-0700
TZOFFSETTO:-0800
TZNAME:PST
DTSTART:20251102T090000
END:STANDARD
BEGIN:DAYLIGHT
TZOFFSETFROM:-0800
TZOFFSETTO:-0700
TZNAME:PDT
DTSTART:20260308T100000
END:DAYLIGHT
BEGIN:STANDARD
TZOFFSETFROM:-0700
TZOFFSETTO:-0800
TZNAME:PST
DTSTART:20261101T090000
END:STANDARD
END:VTIMEZONE
BEGIN:VEVENT
DTSTART;TZID=America/Los_Angeles:20250723T110000
DTEND;TZID=America/Los_Angeles:20250723T120000
DTSTAMP:20260419T162745
CREATED:20250708T215829Z
LAST-MODIFIED:20250708T215829Z
UID:3144-1753268400-1753272000@weallcalifornia.org
SUMMARY:Wellbeing Economics in Education Working Group
DESCRIPTION:How can we work towards a Wellbeing Economy and Society? \nMany of us feel that we need to leverage Education from K-12 and Universities. \n\nBring together Teachers\, Student Engagement Officers and Student Leaders\nSeed Wellbeing Economy systemic thinking and concepts into curriculum across disciplines\nCreate experiential learning opportunities for students to better understand these concepts and develop leadership skills\n\nAt these meetings we highlight work that attendees are doing and share our work so that others can build upon it. \nTo join our July meeting please signup HERE \nAfter you have joined\, you will receive access to our past meeting notes and Resource List.
URL:https://weallcalifornia.org/event/university-connection-2-2-2-2-2/
LOCATION:Zoom
END:VEVENT
END:VCALENDAR