BEGIN:VCALENDAR
VERSION:2.0
PRODID:-//WEAll California - ECPv6.15.20//NONSGML v1.0//EN
CALSCALE:GREGORIAN
METHOD:PUBLISH
X-WR-CALNAME:WEAll California
X-ORIGINAL-URL:https://weallcalifornia.org
X-WR-CALDESC:Events for WEAll California
REFRESH-INTERVAL;VALUE=DURATION:PT1H
X-Robots-Tag:noindex
X-PUBLISHED-TTL:PT1H
BEGIN:VTIMEZONE
TZID:America/Los_Angeles
BEGIN:DAYLIGHT
TZOFFSETFROM:-0800
TZOFFSETTO:-0700
TZNAME:PDT
DTSTART:20240310T100000
END:DAYLIGHT
BEGIN:STANDARD
TZOFFSETFROM:-0700
TZOFFSETTO:-0800
TZNAME:PST
DTSTART:20241103T090000
END:STANDARD
BEGIN:DAYLIGHT
TZOFFSETFROM:-0800
TZOFFSETTO:-0700
TZNAME:PDT
DTSTART:20250309T100000
END:DAYLIGHT
BEGIN:STANDARD
TZOFFSETFROM:-0700
TZOFFSETTO:-0800
TZNAME:PST
DTSTART:20251102T090000
END:STANDARD
BEGIN:DAYLIGHT
TZOFFSETFROM:-0800
TZOFFSETTO:-0700
TZNAME:PDT
DTSTART:20260308T100000
END:DAYLIGHT
BEGIN:STANDARD
TZOFFSETFROM:-0700
TZOFFSETTO:-0800
TZNAME:PST
DTSTART:20261101T090000
END:STANDARD
END:VTIMEZONE
BEGIN:VEVENT
DTSTART;TZID=America/Los_Angeles:20251015T180000
DTEND;TZID=America/Los_Angeles:20251015T190000
DTSTAMP:20260419T181752
CREATED:20250828T015238Z
LAST-MODIFIED:20250828T015238Z
UID:3219-1760551200-1760554800@weallcalifornia.org
SUMMARY:STAR Voting vs Ranked Choice Voting
DESCRIPTION:Our partner\, Good Gov LA\, brings together people interested in healthier democracy.  There are many techniques we can use for this in Los Angeles\, including public funding for elections\,  participatory budgeting and others. \nOn October 15\, we will focus on how we can upgrade the voting system at its root. \nThe “first past the post” voting system we are all familiar with has inherent flaws which lead to more polarized races\, strategic voting by voters rather than expressing their true preference\, and often result in the election of a representative who the majority of voters don’t support. \nMany cities and states are looking to replace traditional voting with methods that encourage honest voting\, allow more competitive candidates to run\, promote positive campaigns and most importantly\, elect candidates that actually represent the will of the people. \nTwo of the methods gaining traction to achieve these results are  Ranked Choice Voting (RCV) and STAR Voting \nAt this event\, we will hear presentations from both STAR and RCV champions and then we will open it up for questions from the audience. \nWe welcome anyone interested in improving the health of our democracy. \nThis event is hosted by Good Gov LA\, a coalition of groups and individuals working toward better democracy. \nSpeakers \nSteve Chessin is the President of Californians for Electoral Reform.  https://cfer.org/ \nArend Castelein is the chair of the Los Angeles chapter of Equal Vote. He also has a background in software engineering\, and has led development of Equal Vote’s web applications\, including bettervoting.com and rcvchangedalaska.com . \nSign up HERE
URL:https://weallcalifornia.org/event/star-voting-vs-ranked-choice-voting/
LOCATION:Zoom
END:VEVENT
END:VCALENDAR