BEGIN:VCALENDAR
VERSION:2.0
PRODID:-//WEAll California - ECPv6.15.20//NONSGML v1.0//EN
CALSCALE:GREGORIAN
METHOD:PUBLISH
X-WR-CALNAME:WEAll California
X-ORIGINAL-URL:https://weallcalifornia.org
X-WR-CALDESC:Events for WEAll California
REFRESH-INTERVAL;VALUE=DURATION:PT1H
X-Robots-Tag:noindex
X-PUBLISHED-TTL:PT1H
BEGIN:VTIMEZONE
TZID:America/Los_Angeles
BEGIN:DAYLIGHT
TZOFFSETFROM:-0800
TZOFFSETTO:-0700
TZNAME:PDT
DTSTART:20240310T100000
END:DAYLIGHT
BEGIN:STANDARD
TZOFFSETFROM:-0700
TZOFFSETTO:-0800
TZNAME:PST
DTSTART:20241103T090000
END:STANDARD
BEGIN:DAYLIGHT
TZOFFSETFROM:-0800
TZOFFSETTO:-0700
TZNAME:PDT
DTSTART:20250309T100000
END:DAYLIGHT
BEGIN:STANDARD
TZOFFSETFROM:-0700
TZOFFSETTO:-0800
TZNAME:PST
DTSTART:20251102T090000
END:STANDARD
BEGIN:DAYLIGHT
TZOFFSETFROM:-0800
TZOFFSETTO:-0700
TZNAME:PDT
DTSTART:20260308T100000
END:DAYLIGHT
BEGIN:STANDARD
TZOFFSETFROM:-0700
TZOFFSETTO:-0800
TZNAME:PST
DTSTART:20261101T090000
END:STANDARD
END:VTIMEZONE
BEGIN:VEVENT
DTSTART;TZID=America/Los_Angeles:20250805T160000
DTEND;TZID=America/Los_Angeles:20250805T170000
DTSTAMP:20260419T123805
CREATED:20250529T235458Z
LAST-MODIFIED:20250529T235458Z
UID:3091-1754409600-1754413200@weallcalifornia.org
SUMMARY:Presentation from New Zealand Hub
DESCRIPTION:WEAll Aotearoa New Zealand is one of WEAll’s first Hubs and they are making great strides towards a Wellbeing Economy. On Tuesday\, August 5 at 4pm Pacific\, we will hear from our friend Gareth Hughes\, the director of the hub. \nGareth is an author\, political commentator and served for a decade as a Member of the New Zealand Parliament. \nHe will discuss their work towards redesigning the economy around the wellbeing of people and planet including: \n\nNew Zealand’s Wellbeing Budgets\nLeadership coming from Māori indigenous economic approaches\nWellbeing Economy policies for towns\, cities and regions\nWEAll’s work for a Future Generations Act Campaign and Community Wealth Building\n\nAs always\, there will be plenty of room for questions\, so we can dive deep as a community. \n  \nSign up HERE
URL:https://weallcalifornia.org/event/presentation-from-new-zealand-hub/
LOCATION:Zoom
END:VEVENT
END:VCALENDAR