BEGIN:VCALENDAR
VERSION:2.0
PRODID:-//WEAll California - ECPv6.15.20//NONSGML v1.0//EN
CALSCALE:GREGORIAN
METHOD:PUBLISH
X-ORIGINAL-URL:https://weallcalifornia.org
X-WR-CALDESC:Events for WEAll California
REFRESH-INTERVAL;VALUE=DURATION:PT1H
X-Robots-Tag:noindex
X-PUBLISHED-TTL:PT1H
BEGIN:VTIMEZONE
TZID:America/Los_Angeles
BEGIN:DAYLIGHT
TZOFFSETFROM:-0800
TZOFFSETTO:-0700
TZNAME:PDT
DTSTART:20240310T100000
END:DAYLIGHT
BEGIN:STANDARD
TZOFFSETFROM:-0700
TZOFFSETTO:-0800
TZNAME:PST
DTSTART:20241103T090000
END:STANDARD
BEGIN:DAYLIGHT
TZOFFSETFROM:-0800
TZOFFSETTO:-0700
TZNAME:PDT
DTSTART:20250309T100000
END:DAYLIGHT
BEGIN:STANDARD
TZOFFSETFROM:-0700
TZOFFSETTO:-0800
TZNAME:PST
DTSTART:20251102T090000
END:STANDARD
BEGIN:DAYLIGHT
TZOFFSETFROM:-0800
TZOFFSETTO:-0700
TZNAME:PDT
DTSTART:20260308T100000
END:DAYLIGHT
BEGIN:STANDARD
TZOFFSETFROM:-0700
TZOFFSETTO:-0800
TZNAME:PST
DTSTART:20261101T090000
END:STANDARD
END:VTIMEZONE
BEGIN:VEVENT
DTSTART;TZID=America/Los_Angeles:20250911T120000
DTEND;TZID=America/Los_Angeles:20250911T130000
DTSTAMP:20260419T180558
CREATED:20250827T223911Z
LAST-MODIFIED:20250827T223911Z
UID:3210-1757592000-1757595600@weallcalifornia.org
SUMMARY:Good Gov LA Sept
DESCRIPTION:Good Gov LA brings together groups focused on healthy democracy across Los Angeles for a chance to connect\, create opportunities for partnership and build a supportive network. \nNot all of the groups need to be fully aligned and many have special focuses like election reforms\, ethics and accountability or public engagement in democracy. \nTopics have included- \n\nCharter Reform\nCivic Assemblies\nImmigration Raids\nVoter Turnout\nLegislative Alliances to create victories\n\nThe group holds monthly zoom meetings the second Thursday of each month at 12pm Pacific and occasional in person networking events. \nTo join a meeting or learn more\, please fill out this FORM. \nWEAll California is a partner in this venture.  Healthy Democracy and Collaboration are essential pillars to a wellbeing future.
URL:https://weallcalifornia.org/event/good-gov-la-2-2-2-2/
LOCATION:Zoom
END:VEVENT
BEGIN:VEVENT
DTSTART;TZID=America/Los_Angeles:20250917T110000
DTEND;TZID=America/Los_Angeles:20250917T120000
DTSTAMP:20260419T180558
CREATED:20250530T195146Z
LAST-MODIFIED:20250813T154512Z
UID:3097-1758106800-1758110400@weallcalifornia.org
SUMMARY:Community Assemblies - How to engage community in democratic participation that is fun\, builds connections and produces results
DESCRIPTION:One of the primary goals of a Wellbeing Economy is to get people involved in their local democracies in a way that feels life giving\, productive and satisfying.   Community gatherings and assemblies are shown to accomplish this\, and also create positive connectivity among stakeholders and produce a sense of inner wellbeing. \nOn Wed\, Sep 17 at 11am Pacific\, Louis Alloro of Wellbeing Lab\, Powered by Champions of Change will present on the strengths-based and future-focused work he has been leading all over the country to convene communities on topics that matter.  He’ll explain how he worked with the City of Palmdale to convene 200 professionals to set a vision and plan for how to better prevent mental illness\, substance abuse\, crime\, violence and financial ruin in the Antelope Valley. \nLouis incorporates a variety of techniques designed to produce connection\, safety and wellbeing. \nAs always\, there will be plenty of time for Q&A so that you can learn what this might look like in your community or workplace. \nSign up HERE \n  \nLearn more about Louis on his website or Linkedin. \nRead about the Palmdale event at https://www.avpress.com/news/prevention-summit-eyes-thriving-future/article_6ddb12fb-d530-4153-bdf5-f6f13fb4347e.html \n 
URL:https://weallcalifornia.org/event/community-assemblies-how-to-engage-community-in-democratic-participation-that-is-fun-builds-connections-and-produces-results/
LOCATION:Zoom
END:VEVENT
BEGIN:VEVENT
DTSTART;TZID=America/Los_Angeles:20250918T130000
DTEND;TZID=America/Los_Angeles:20250918T140000
DTSTAMP:20260419T180558
CREATED:20250825T234639Z
LAST-MODIFIED:20250825T234639Z
UID:3198-1758200400-1758204000@weallcalifornia.org
SUMMARY:Local Leaders Monthly Forum
DESCRIPTION:This is a recurring monthly meeting for people involved in creating Wellbeing Economies in their local community. \nWe discuss challenges specific to growing local wellbeing economy initiatives in a local area and share solutions\, feedback and support. \nThis Forum requires an application to join to make sure it is a good fit.  If you think this could be a good fit for you\, please fill out this short form \n 
URL:https://weallcalifornia.org/event/local-leaders-monthly-forum-2-2-2-2/
LOCATION:Zoom
END:VEVENT
END:VCALENDAR