BEGIN:VCALENDAR
VERSION:2.0
PRODID:-//WEAll California - ECPv6.15.20//NONSGML v1.0//EN
CALSCALE:GREGORIAN
METHOD:PUBLISH
X-ORIGINAL-URL:https://weallcalifornia.org
X-WR-CALDESC:Events for WEAll California
REFRESH-INTERVAL;VALUE=DURATION:PT1H
X-Robots-Tag:noindex
X-PUBLISHED-TTL:PT1H
BEGIN:VTIMEZONE
TZID:America/Los_Angeles
BEGIN:DAYLIGHT
TZOFFSETFROM:-0800
TZOFFSETTO:-0700
TZNAME:PDT
DTSTART:20240310T100000
END:DAYLIGHT
BEGIN:STANDARD
TZOFFSETFROM:-0700
TZOFFSETTO:-0800
TZNAME:PST
DTSTART:20241103T090000
END:STANDARD
BEGIN:DAYLIGHT
TZOFFSETFROM:-0800
TZOFFSETTO:-0700
TZNAME:PDT
DTSTART:20250309T100000
END:DAYLIGHT
BEGIN:STANDARD
TZOFFSETFROM:-0700
TZOFFSETTO:-0800
TZNAME:PST
DTSTART:20251102T090000
END:STANDARD
BEGIN:DAYLIGHT
TZOFFSETFROM:-0800
TZOFFSETTO:-0700
TZNAME:PDT
DTSTART:20260308T100000
END:DAYLIGHT
BEGIN:STANDARD
TZOFFSETFROM:-0700
TZOFFSETTO:-0800
TZNAME:PST
DTSTART:20261101T090000
END:STANDARD
END:VTIMEZONE
BEGIN:VEVENT
DTSTART;TZID=America/Los_Angeles:20251007T130000
DTEND;TZID=America/Los_Angeles:20251007T140000
DTSTAMP:20260419T162811
CREATED:20250828T015736Z
LAST-MODIFIED:20250828T015736Z
UID:3221-1759842000-1759845600@weallcalifornia.org
SUMMARY:Inland Empire Working Group
DESCRIPTION:WEAll California is partnering with different groups in the Inland Empire to bring about a healthier society and economy. \nOur first meeting in July went well and this October meeting\, will be expanding our circle and clarifying next steps. \nIf you live or work in the Inland Empire and you would like to see how we can improve our collective action efforts\, we encourage you to join us or contact us for more information. \nSign up HERE
URL:https://weallcalifornia.org/event/inland-empire-working-group/
LOCATION:Zoom
END:VEVENT
BEGIN:VEVENT
DTSTART;TZID=America/Los_Angeles:20251016T130000
DTEND;TZID=America/Los_Angeles:20251016T140000
DTSTAMP:20260419T162811
CREATED:20250926T214203Z
LAST-MODIFIED:20250926T214203Z
UID:3249-1760619600-1760623200@weallcalifornia.org
SUMMARY:Local Leaders Monthly Forum
DESCRIPTION:This is a recurring monthly meeting for people involved in creating Wellbeing Economies in their local community. \nWe discuss challenges specific to growing local wellbeing economy initiatives in a local area and share solutions\, feedback and support. \nThis Forum requires an application to join to make sure it is a good fit.  If you think this could be a good fit for you\, please fill out this short form \n 
URL:https://weallcalifornia.org/event/local-leaders-monthly-forum-2-2-2-2-2/
LOCATION:Zoom
END:VEVENT
END:VCALENDAR