BEGIN:VCALENDAR
VERSION:2.0
PRODID:-//WEAll California - ECPv6.15.20//NONSGML v1.0//EN
CALSCALE:GREGORIAN
METHOD:PUBLISH
X-WR-CALNAME:WEAll California
X-ORIGINAL-URL:https://weallcalifornia.org
X-WR-CALDESC:Events for WEAll California
REFRESH-INTERVAL;VALUE=DURATION:PT1H
X-Robots-Tag:noindex
X-PUBLISHED-TTL:PT1H
BEGIN:VTIMEZONE
TZID:America/Los_Angeles
BEGIN:DAYLIGHT
TZOFFSETFROM:-0800
TZOFFSETTO:-0700
TZNAME:PDT
DTSTART:20240310T100000
END:DAYLIGHT
BEGIN:STANDARD
TZOFFSETFROM:-0700
TZOFFSETTO:-0800
TZNAME:PST
DTSTART:20241103T090000
END:STANDARD
BEGIN:DAYLIGHT
TZOFFSETFROM:-0800
TZOFFSETTO:-0700
TZNAME:PDT
DTSTART:20250309T100000
END:DAYLIGHT
BEGIN:STANDARD
TZOFFSETFROM:-0700
TZOFFSETTO:-0800
TZNAME:PST
DTSTART:20251102T090000
END:STANDARD
BEGIN:DAYLIGHT
TZOFFSETFROM:-0800
TZOFFSETTO:-0700
TZNAME:PDT
DTSTART:20260308T100000
END:DAYLIGHT
BEGIN:STANDARD
TZOFFSETFROM:-0700
TZOFFSETTO:-0800
TZNAME:PST
DTSTART:20261101T090000
END:STANDARD
END:VTIMEZONE
BEGIN:VEVENT
DTSTART;TZID=America/Los_Angeles:20250708T160000
DTEND;TZID=America/Los_Angeles:20250708T170000
DTSTAMP:20260419T101836
CREATED:20250613T152536Z
LAST-MODIFIED:20250613T152536Z
UID:3124-1751990400-1751994000@weallcalifornia.org
SUMMARY:Leveraging a Crisis to Advance Wellbeing- Australian Fire Recovery
DESCRIPTION:Megafire events are becoming increasingly frequent in California and around the world. To reflect on the recovery process\, we ask: \n\nHow can we as a global community learn from one another’s recovery efforts to build local to global resilience?\nWhat data helps us steer into healthier choices during recovery?\nHow can we include the community into the recovery process?\n\nAfter the devastating 2019-20 Black Summer Bushfires in Australia\, Bega Valley Data Collective (BVDC) created a community empowerment process and set parameters for data collection that drove amazing results. April Merrick and Tim Whitaker from Bega Valley Data Collective will share their purpose and the metrics and outcomes with us and answer your questions about how they might apply to our local recovery efforts. BVDC is a volunteer-based\, not-for-profit association with the mission to empower the community to thrive through a wellbeing framework based on collaboration\, data and action. \nIn addition\, Carolyn Ardler and April from the Foundation for Regional & Rural Renewal will share their experiences of how funding organisations can work with Not-for-Profit organisations or community groups to ensure they can not only continue to support their communities after disasters but also be financially sustainable. FRRR is a not-for-profit organisation that connect common purposes and funding from government\, business and philanthropy with the genuine local needs of rural people and places. \nThis session will be hosted by longtime WEAll CA Partner Catalina Langen of Civic Wellbeing Partners and Santa Monica Bay Area Human Relations Council. \nTo join us on Tuesday\, July 8th at 4pm Pacific\, please sign up below \nhttps://docs.google.com/forms/d/e/1FAIpQLSfccOVCLZGKVZGHJ5QsMFINETdoswn53-9rR05xdVLZYlmh_w/viewform?usp=sharing&ouid=113715013713551266073 \nLinks to the presenters \nhttps://www.begavalleydata.com.au/ \nhttps://www.frrr.org.au
URL:https://weallcalifornia.org/event/leveraging-a-crisis-to-advance-wellbeing-australian-fire-recovery/
LOCATION:Zoom
END:VEVENT
END:VCALENDAR