BEGIN:VCALENDAR
VERSION:2.0
PRODID:-//WEAll California - ECPv6.15.20//NONSGML v1.0//EN
CALSCALE:GREGORIAN
METHOD:PUBLISH
X-WR-CALNAME:WEAll California
X-ORIGINAL-URL:https://weallcalifornia.org
X-WR-CALDESC:Events for WEAll California
REFRESH-INTERVAL;VALUE=DURATION:PT1H
X-Robots-Tag:noindex
X-PUBLISHED-TTL:PT1H
BEGIN:VTIMEZONE
TZID:America/Los_Angeles
BEGIN:DAYLIGHT
TZOFFSETFROM:-0800
TZOFFSETTO:-0700
TZNAME:PDT
DTSTART:20240310T100000
END:DAYLIGHT
BEGIN:STANDARD
TZOFFSETFROM:-0700
TZOFFSETTO:-0800
TZNAME:PST
DTSTART:20241103T090000
END:STANDARD
BEGIN:DAYLIGHT
TZOFFSETFROM:-0800
TZOFFSETTO:-0700
TZNAME:PDT
DTSTART:20250309T100000
END:DAYLIGHT
BEGIN:STANDARD
TZOFFSETFROM:-0700
TZOFFSETTO:-0800
TZNAME:PST
DTSTART:20251102T090000
END:STANDARD
BEGIN:DAYLIGHT
TZOFFSETFROM:-0800
TZOFFSETTO:-0700
TZNAME:PDT
DTSTART:20260308T100000
END:DAYLIGHT
BEGIN:STANDARD
TZOFFSETFROM:-0700
TZOFFSETTO:-0800
TZNAME:PST
DTSTART:20261101T090000
END:STANDARD
END:VTIMEZONE
BEGIN:VEVENT
DTSTART;TZID=America/Los_Angeles:20250911T100000
DTEND;TZID=America/Los_Angeles:20250911T113000
DTSTAMP:20260419T064215
CREATED:20250731T220249Z
LAST-MODIFIED:20250813T154637Z
UID:3166-1757584800-1757590200@weallcalifornia.org
SUMMARY:Measuring What Matters: Three community approaches to wellbeing assessment
DESCRIPTION:One of the most common questions we get at WEAll California is “What do we need to measure for Wellbeing?” \nFor this event\, we are trying a new format.   Three members of WEAll California have been working on systems of measurement and tracking.  These 3 versions are all different and bring unique perspectives. \nEach person will do a brief presentation on their measurement system.  After each presentation\, we will open up to questions from the community.  At the end of 30 minutes\, we will have the next presentation and then Q&A for that presentation. \nThis event will be a 90 minute event. \nOur presenters: \n\nDave Rice\, President of UN SDG Orange County Chapter\nElizabeth Castillo\, Professor of Sustainable Management at California State University San Bernardino\nDr. Stacy Rebich Hespanha\, The Central Coast Wellbeing Indicators Framework\n\nPlease sign up HERE \n 
URL:https://weallcalifornia.org/event/3-different-views-on-metrics/
LOCATION:Zoom
END:VEVENT
END:VCALENDAR