BEGIN:VCALENDAR
VERSION:2.0
PRODID:-//WEAll California - ECPv6.15.20//NONSGML v1.0//EN
CALSCALE:GREGORIAN
METHOD:PUBLISH
X-ORIGINAL-URL:https://weallcalifornia.org
X-WR-CALDESC:Events for WEAll California
REFRESH-INTERVAL;VALUE=DURATION:PT1H
X-Robots-Tag:noindex
X-PUBLISHED-TTL:PT1H
BEGIN:VTIMEZONE
TZID:America/Los_Angeles
BEGIN:DAYLIGHT
TZOFFSETFROM:-0800
TZOFFSETTO:-0700
TZNAME:PDT
DTSTART:20240310T100000
END:DAYLIGHT
BEGIN:STANDARD
TZOFFSETFROM:-0700
TZOFFSETTO:-0800
TZNAME:PST
DTSTART:20241103T090000
END:STANDARD
BEGIN:DAYLIGHT
TZOFFSETFROM:-0800
TZOFFSETTO:-0700
TZNAME:PDT
DTSTART:20250309T100000
END:DAYLIGHT
BEGIN:STANDARD
TZOFFSETFROM:-0700
TZOFFSETTO:-0800
TZNAME:PST
DTSTART:20251102T090000
END:STANDARD
BEGIN:DAYLIGHT
TZOFFSETFROM:-0800
TZOFFSETTO:-0700
TZNAME:PDT
DTSTART:20260308T100000
END:DAYLIGHT
BEGIN:STANDARD
TZOFFSETFROM:-0700
TZOFFSETTO:-0800
TZNAME:PST
DTSTART:20261101T090000
END:STANDARD
END:VTIMEZONE
BEGIN:VEVENT
DTSTART;TZID=America/Los_Angeles:20251014T110000
DTEND;TZID=America/Los_Angeles:20251014T120000
DTSTAMP:20260419T071031
CREATED:20250815T222610Z
LAST-MODIFIED:20250903T211547Z
UID:3181-1760439600-1760443200@weallcalifornia.org
SUMMARY:Vermont Prosperity Project
DESCRIPTION:Our new series will spotlight networks that are working to create Wellbeing Economies in their states. \nEach session in this webinar series will spotlight one state network as they share their vision for progress\, highlight the economic transformations they are working toward\, and the key actors involved in driving change. \nThis is an opportunity for participants to learn directly from those on the ground\, hearing about strategies\, successes\, and lessons learned. The conversations will not only explore the “what” of each network’s work\, but also the “how” behind building an economy designed to serve people and the planet. \nAt this gathering\, we will hear from Jessica Savage and Ellen Kahler from the Vermont Prosperity Project. \nThe Vermont Prosperity Project is a collaborative\, emergent initiative that works to seed definitions of prosperity and progress rooted in social and ecological wellbeing by asking the question: what makes for a good life?  Our Steering Wheel Team facilitates creative conversations across Vermont about our economy and the beliefs\, values\, and aspirations that shape and reshape it. Our efforts are aimed at demystifying and expanding how we think about the economy\, exploring strategies within reach to transform our economy\, and learning how Vermonters are practicing those strategies now. \nJessica Savage is the Director of Programs and Strategic Initiatives at the Vermont Council on Rural Development (VCRD)  \nEllen Kahler is the Executive Director of the Vermont Sustainable Jobs Fund (VSJF). \nJoin us October 14th at 11am Pacific/ 2 Eastern \nLater in this series we will hear from: \n\nPuerto Rico Social Solidarity Network – Dec 9\nĀina Aloha Economic Futures\nWashington Economic Justice Alliance & People’s Economy Lab\n\nTo sign up for the event\, please click HERE \n 
URL:https://weallcalifornia.org/event/state-network-series-pathways-to-economic-system-change-2/
LOCATION:Zoom
END:VEVENT
END:VCALENDAR