BEGIN:VCALENDAR
VERSION:2.0
PRODID:-//WEAll California - ECPv6.15.20//NONSGML v1.0//EN
CALSCALE:GREGORIAN
METHOD:PUBLISH
X-ORIGINAL-URL:https://weallcalifornia.org
X-WR-CALDESC:Events for WEAll California
REFRESH-INTERVAL;VALUE=DURATION:PT1H
X-Robots-Tag:noindex
X-PUBLISHED-TTL:PT1H
BEGIN:VTIMEZONE
TZID:America/Los_Angeles
BEGIN:DAYLIGHT
TZOFFSETFROM:-0800
TZOFFSETTO:-0700
TZNAME:PDT
DTSTART:20240310T100000
END:DAYLIGHT
BEGIN:STANDARD
TZOFFSETFROM:-0700
TZOFFSETTO:-0800
TZNAME:PST
DTSTART:20241103T090000
END:STANDARD
BEGIN:DAYLIGHT
TZOFFSETFROM:-0800
TZOFFSETTO:-0700
TZNAME:PDT
DTSTART:20250309T100000
END:DAYLIGHT
BEGIN:STANDARD
TZOFFSETFROM:-0700
TZOFFSETTO:-0800
TZNAME:PST
DTSTART:20251102T090000
END:STANDARD
BEGIN:DAYLIGHT
TZOFFSETFROM:-0800
TZOFFSETTO:-0700
TZNAME:PDT
DTSTART:20260308T100000
END:DAYLIGHT
BEGIN:STANDARD
TZOFFSETFROM:-0700
TZOFFSETTO:-0800
TZNAME:PST
DTSTART:20261101T090000
END:STANDARD
END:VTIMEZONE
BEGIN:VEVENT
DTSTART;TZID=America/Los_Angeles:20250909T110000
DTEND;TZID=America/Los_Angeles:20250909T120000
DTSTAMP:20260419T105530
CREATED:20250813T161944Z
LAST-MODIFIED:20250827T223416Z
UID:3176-1757415600-1757419200@weallcalifornia.org
SUMMARY:Virginia Solidarity Economy Network
DESCRIPTION:Our new series will spotlight networks that are working to create Wellbeing Economies in their states. \nEach session in this webinar series will spotlight one state network as they share their vision for progress\, highlight the economic transformations they are working toward\, and the key actors involved in driving change. \nThis is an opportunity for participants to learn directly from those on the ground\, hearing about strategies\, successes\, and lessons learned. The conversations will not only explore the “what” of each network’s work\, but also the “how” behind building an economy designed to serve people and the planet. \nOur first presentation will be from Matthew Slaats of the Virginia Solidarity Economy Network. \nMatthew is a civic organizer with a focus on grassroots community development networks across the diversity of the state of VA. Successes have included Virginia’s first city based participatory budgeting effort and the start of a state worker cooperative development center. In all this work he is focused specifically on centering the voices of residents in the decisions that impact their lives. \nJoin us September 9th at 11am Pacific/ 2 Eastern to learn more and participate in a dialogue with Matthew. \nLater in this series we will hear from: \n\nVermont Prosperity Project – Oct 14th\nPuerto Rico Social Solidarity Network – Dec 9th\nĀina Aloha Economic Futures\nWashington Economic Justice Alliance & People’s Economy Lab\n\nTo sign up for the first event\, please click HERE
URL:https://weallcalifornia.org/event/state-network-series-pathways-to-economic-system-change/
LOCATION:Zoom
END:VEVENT
END:VCALENDAR